{"text_format":"1","workbook":"xlsx","n_sheets":5,"sheets":["DC2A","TENDER PACK 2 LNG (Sheet A)","TENDER PACK 2 LNG (Sheet B)","DC2B","DC2C"],"not_rendered":{"charts":0,"images":4,"macros":1,"external_links":0,"defined_names":2,"comments":3,"pivot_tables":0},"unopened":[],"bounds":{"document_bytes":16777216,"sheet_cells":100000,"rows_first":2000,"rows_last":500,"rows_between":2000,"halvings":0,"cell_chars":16384,"cell_head_chars":4096},"cells_cut":0,"cells_raw":0,"read":"whole","date_system":"1900"}

{"sheet":"DC2A","index":0,"n_rows":13,"n_cols":43,"rows_kept":13,"cut":false,"hidden":true,"merged":[[0,2,1,9]]}
[null,null,"Data Collection Tab for Contracts Team"]
[]
["Tender Pack","Tender Ref","Tranche Ref","Main Ref",{"$f":"'TENDER PACK 2 LNG (Sheet A)'!D88","v":"Tenderer's Company Name\n(Including registered office address and company number)"},{"$f":"'TENDER PACK 2 LNG (Sheet A)'!D90","v":"Company Representative, Job Title"},{"$f":"'TENDER PACK 2 LNG (Sheet A)'!D92","v":"Company Representative Address\n(full address including postcode)"},{"$f":"'TENDER PACK 2 LNG (Sheet A)'!D96","v":"Telephone Number"},{"$f":"'TENDER PACK 2 LNG (Sheet A)'!D97","v":0},{"$f":"'TENDER PACK 2 LNG (Sheet A)'!D98","v":"Email Address"},{"$f":"'TENDER PACK 2 LNG (Sheet A)'!D99","v":"Legal Agent Name"},{"$f":"'TENDER PACK 2 LNG (Sheet A)'!D100","v":"Legal Agent Address"},{"$f":"'TENDER PACK 2 LNG (Sheet A)'!D102","v":"Shipper Short Code"},{"$f":"'TENDER PACK 2 LNG (Sheet A)'!D104","v":"Achilles Registration Number"},"Winter Only?",{"$f":"'TENDER PACK 2 LNG (Sheet A)'!D129","v":"Facility Name\n(including company number)"},{"$f":"'TENDER PACK 2 LNG (Sheet A)'!D131","v":"Facility Location\n(full address including postcode)"},{"$f":"'TENDER PACK 2 LNG (Sheet A)'!D136","v":"Service Provision Category"},{"$f":"'TENDER PACK 2 LNG (Sheet A)'!D140","v":"Execution Date For Tenderer’s Agreement With Facility Operator"},{"$f":"'TENDER PACK 2 LNG (Sheet A)'!$H$197","v":"Maximum Customer Delivery Rate (Tendered for the purposes of OM)\n(must be greater or equal to 500,000 kWh/hour)"},{"$f":"'TENDER PACK 2 LNG (Sheet A)'!J197:K197","v":"Minimum Customer Delivery Rate (Tendered for the purposes of OM)\n(optional) (if left blank delivery deemed at 0"},0,{"$f":"'TENDER PACK 2 LNG (Sheet A)'!$D$179","v":"Response Time"},{"$f":"'TENDER PACK 2 LNG (Sheet A)'!$D$181","v":"Planned Maintenance Periods"},{"$f":"'TENDER PACK 2 LNG (Sheet A)'!$D$185","v":"Website for Service Availability / Unavailability"},{"$f":"'TENDER PACK 2 LNG (Sheet A)'!$D$187","v":"Allocation Agent                                                                  (Name, Address, Tel No)"},{"$f":"'TENDER PACK 2 LNG (Sheet A)'!$D$189","v":"Maximum Delivery Duration"},{"$f":"'TENDER PACK 2 LNG (Sheet A)'!$D$191","v":"Minimum Delivery Duration\n(Optional) (if left blank delivery deemed at 0)"},null,{"$f":"'TENDER PACK 2 LNG (Sheet A)'!$D$197","v":"LNG Procurement Tranche Number"},{"$f":"'TENDER PACK 2 LNG (Sheet A)'!$F$197","v":"Service Quantity (in kWh)"},{"$f":"'TENDER PACK 2 LNG (Sheet A)'!$L$197","v":"Estimated  Required LNG Quantity kWh"},"Tranche may only be accepted in full (YES / NO)",{"$f":"'TENDER PACK 2 LNG (Sheet A)'!$P$197","v":"Annual Service Fee (in pence per kWh per annum)"},null,{"$f":"'TENDER PACK 2 LNG (Sheet A)'!$D$210","v":"Minimum Inventory "},{"$f":"'TENDER PACK 2 LNG (Sheet A)'!$D$212","v":"Maximum Facility Delivery Capacity"},{"$f":"'TENDER PACK 2 LNG (Sheet A)'!$D$222","v":"Indexed Delivery Charge\n"},{"$f":"'TENDER PACK 2 LNG (Sheet A)'!$D$225","v":0},{"$f":"'TENDER PACK 2 LNG (Sheet A)'!$D$228","v":"Overrun Delivery Rate\n"},{"$f":"'TENDER PACK 2 LNG (Sheet A)'!$D$234","v":"Additional SP Delivery Capacity Charge Rate"},null,{"$f":"'TENDER PACK 2 LNG (Sheet A)'!#REF!","v":{"$error":"#REF!"}}]
[null,null,null,{"$f":"A4&\".\"&B4&\".\"&C4","v":".."},{"$f":"'TENDER PACK 2 LNG (Sheet A)'!$H$88","v":0},{"$f":"'TENDER PACK 2 LNG (Sheet A)'!$H$90","v":0},{"$f":"'TENDER PACK 2 LNG (Sheet A)'!$H$92","v":0},{"$f":"'TENDER PACK 2 LNG (Sheet A)'!$H$96","v":0},{"$f":"'TENDER PACK 2 LNG (Sheet A)'!$H$97","v":0},{"$f":"'TENDER PACK 2 LNG (Sheet A)'!$H$98","v":0},{"$f":"'TENDER PACK 2 LNG (Sheet A)'!$H$99","v":0},{"$f":"'TENDER PACK 2 LNG (Sheet A)'!$H$100","v":0},{"$f":"'TENDER PACK 2 LNG (Sheet A)'!$H$102","v":0},{"$f":"'TENDER PACK 2 LNG (Sheet A)'!$H$104","v":0},"No",{"$f":"'TENDER PACK 2 LNG (Sheet A)'!$H$129","v":0},{"$f":"'TENDER PACK 2 LNG (Sheet A)'!$H$131","v":0},"Capacity Holder of LNG Importation with Storage",{"$f":"'TENDER PACK 2 LNG (Sheet A)'!$H$140","v":"00:00:00"},{"$f":"'TENDER PACK 2 LNG (Sheet A)'!$H198","v":0},{"$f":"'TENDER PACK 2 LNG (Sheet A)'!$J$198","v":0},null,{"$f":"'TENDER PACK 2 LNG (Sheet A)'!$H$179","v":0},{"$f":"'TENDER PACK 2 LNG (Sheet A)'!$H$181","v":"00:00:00"},{"$f":"'TENDER PACK 2 LNG (Sheet A)'!$H$185","v":0},{"$f":"'TENDER PACK 2 LNG (Sheet A)'!$H$187","v":0},{"$f":"IF('TENDER PACK 2 LNG (Sheet A)'!$U$189=1,\"12\",IF('TENDER PACK 2 LNG (Sheet A)'!$U$189=2,\"24\",\"UNCHECKED\"))","v":"24"},{"$f":"'TENDER PACK 2 LNG (Sheet A)'!$H$191","v":0},null,{"$f":"'TENDER PACK 2 LNG (Sheet A)'!D198","v":1},{"$f":"'TENDER PACK 2 LNG (Sheet A)'!$F198","v":0},{"$f":"'TENDER PACK 2 LNG (Sheet A)'!$L198","v":0},{"$f":"'TENDER PACK 2 LNG (Sheet A)'!$N198","v":0},{"$f":"'TENDER PACK 2 LNG (Sheet A)'!$P198","v":0},null,{"$f":"'TENDER PACK 2 LNG (Sheet A)'!$H$210","v":0},{"$f":"'TENDER PACK 2 LNG (Sheet A)'!$H$212","v":0},{"$f":"'TENDER PACK 2 LNG (Sheet A)'!$H$222","v":"Indexed Delivery Charge 1"},{"$f":"'TENDER PACK 2 LNG (Sheet A)'!$L$225","v":0},{"$f":"'TENDER PACK 2 LNG (Sheet A)'!$H$228","v":0},{"$f":"'TENDER PACK 2 LNG (Sheet A)'!$H$234","v":0},null,{"$f":"IF('TENDER PACK 2 LNG (Sheet A)'!#REF!=\"\",\"N\",\"Y\")","v":{"$error":"#REF!"}}]
[null,null,null,null,{"$f":"'TENDER PACK 2 LNG (Sheet A)'!$H$88","v":0},{"$f":"'TENDER PACK 2 LNG (Sheet A)'!$H$90","v":0},{"$f":"'TENDER PACK 2 LNG (Sheet A)'!$H$92","v":0},{"$f":"'TENDER PACK 2 LNG (Sheet A)'!$H$96","v":0},{"$f":"'TENDER PACK 2 LNG (Sheet A)'!$H$97","v":0},{"$f":"'TENDER PACK 2 LNG (Sheet A)'!$H$98","v":0},{"$f":"'TENDER PACK 2 LNG (Sheet A)'!$H$99","v":0},{"$f":"'TENDER PACK 2 LNG (Sheet A)'!$H$100","v":0},{"$f":"'TENDER PACK 2 LNG (Sheet A)'!$H$102","v":0},{"$f":"'TENDER PACK 2 LNG (Sheet A)'!$H$104","v":0},"No",{"$f":"'TENDER PACK 2 LNG (Sheet A)'!$H$129","v":0},{"$f":"'TENDER PACK 2 LNG (Sheet A)'!$H$131","v":0},"Capacity Holder of LNG Importation with Storage",{"$f":"'TENDER PACK 2 LNG (Sheet A)'!$H$140","v":"00:00:00"},{"$f":"'TENDER PACK 2 LNG (Sheet A)'!$H199","v":0},{"$f":"'TENDER PACK 2 LNG (Sheet A)'!$J$199","v":0},null,{"$f":"'TENDER PACK 2 LNG (Sheet A)'!$H$179","v":0},{"$f":"'TENDER PACK 2 LNG (Sheet A)'!$H$181","v":"00:00:00"},{"$f":"'TENDER PACK 2 LNG (Sheet A)'!$H$185","v":0},{"$f":"'TENDER PACK 2 LNG (Sheet A)'!$H$187","v":0},{"$f":"IF('TENDER PACK 2 LNG (Sheet A)'!$U$189=1,\"12\",IF('TENDER PACK 2 LNG (Sheet A)'!$U$189=2,\"24\",\"UNCHECKED\"))","v":"24"},{"$f":"'TENDER PACK 2 LNG (Sheet A)'!$H$191","v":0},null,{"$f":"'TENDER PACK 2 LNG (Sheet A)'!D199","v":2},{"$f":"'TENDER PACK 2 LNG (Sheet A)'!$F199","v":0},{"$f":"'TENDER PACK 2 LNG (Sheet A)'!$L199","v":0},{"$f":"'TENDER PACK 2 LNG (Sheet A)'!$N199","v":0},{"$f":"'TENDER PACK 2 LNG (Sheet A)'!$P199","v":0},null,{"$f":"'TENDER PACK 2 LNG (Sheet A)'!$H$210","v":0},{"$f":"'TENDER PACK 2 LNG (Sheet A)'!$H$212","v":0},{"$f":"'TENDER PACK 2 LNG (Sheet A)'!$H$222","v":"Indexed Delivery Charge 1"},{"$f":"'TENDER PACK 2 LNG (Sheet A)'!$L$225","v":0},{"$f":"'TENDER PACK 2 LNG (Sheet A)'!$H$228","v":0},{"$f":"'TENDER PACK 2 LNG (Sheet A)'!$H$234","v":0},null,{"$f":"IF('TENDER PACK 2 LNG (Sheet A)'!#REF!=\"\",\"N\",\"Y\")","v":{"$error":"#REF!"}}]
[null,null,null,null,{"$f":"'TENDER PACK 2 LNG (Sheet A)'!$H$88","v":0},{"$f":"'TENDER PACK 2 LNG (Sheet A)'!$H$90","v":0},{"$f":"'TENDER PACK 2 LNG (Sheet A)'!$H$92","v":0},{"$f":"'TENDER PACK 2 LNG (Sheet A)'!$H$96","v":0},{"$f":"'TENDER PACK 2 LNG (Sheet A)'!$H$97","v":0},{"$f":"'TENDER PACK 2 LNG (Sheet A)'!$H$98","v":0},{"$f":"'TENDER PACK 2 LNG (Sheet A)'!$H$99","v":0},{"$f":"'TENDER PACK 2 LNG (Sheet A)'!$H$100","v":0},{"$f":"'TENDER PACK 2 LNG (Sheet A)'!$H$102","v":0},{"$f":"'TENDER PACK 2 LNG (Sheet A)'!$H$104","v":0},"No",{"$f":"'TENDER PACK 2 LNG (Sheet A)'!$H$129","v":0},{"$f":"'TENDER PACK 2 LNG (Sheet A)'!$H$131","v":0},"Capacity Holder of LNG Importation with Storage",{"$f":"'TENDER PACK 2 LNG (Sheet A)'!$H$140","v":"00:00:00"},{"$f":"'TENDER PACK 2 LNG (Sheet A)'!$H200","v":0},{"$f":"'TENDER PACK 2 LNG (Sheet A)'!$J$200","v":0},null,{"$f":"'TENDER PACK 2 LNG (Sheet A)'!$H$179","v":0},{"$f":"'TENDER PACK 2 LNG (Sheet A)'!$H$181","v":"00:00:00"},{"$f":"'TENDER PACK 2 LNG (Sheet A)'!$H$185","v":0},{"$f":"'TENDER PACK 2 LNG (Sheet A)'!$H$187","v":0},{"$f":"IF('TENDER PACK 2 LNG (Sheet A)'!$U$189=1,\"12\",IF('TENDER PACK 2 LNG (Sheet A)'!$U$189=2,\"24\",\"UNCHECKED\"))","v":"24"},{"$f":"'TENDER PACK 2 LNG (Sheet A)'!$H$191","v":0},null,{"$f":"'TENDER PACK 2 LNG (Sheet A)'!D200","v":3},{"$f":"'TENDER PACK 2 LNG (Sheet A)'!$F200","v":0},{"$f":"'TENDER PACK 2 LNG (Sheet A)'!$L200","v":0},{"$f":"'TENDER PACK 2 LNG (Sheet A)'!$N200","v":0},{"$f":"'TENDER PACK 2 LNG (Sheet A)'!$P200","v":0},null,{"$f":"'TENDER PACK 2 LNG (Sheet A)'!$H$210","v":0},{"$f":"'TENDER PACK 2 LNG (Sheet A)'!$H$212","v":0},{"$f":"'TENDER PACK 2 LNG (Sheet A)'!$H$222","v":"Indexed Delivery Charge 1"},{"$f":"'TENDER PACK 2 LNG (Sheet A)'!$L$225","v":0},{"$f":"'TENDER PACK 2 LNG (Sheet A)'!$H$228","v":0},{"$f":"'TENDER PACK 2 LNG (Sheet A)'!$H$234","v":0},null,{"$f":"IF('TENDER PACK 2 LNG (Sheet A)'!#REF!=\"\",\"N\",\"Y\")","v":{"$error":"#REF!"}}]
[null,null,null,null,{"$f":"'TENDER PACK 2 LNG (Sheet A)'!$H$88","v":0},{"$f":"'TENDER PACK 2 LNG (Sheet A)'!$H$90","v":0},{"$f":"'TENDER PACK 2 LNG (Sheet A)'!$H$92","v":0},{"$f":"'TENDER PACK 2 LNG (Sheet A)'!$H$96","v":0},{"$f":"'TENDER PACK 2 LNG (Sheet A)'!$H$97","v":0},{"$f":"'TENDER PACK 2 LNG (Sheet A)'!$H$98","v":0},{"$f":"'TENDER PACK 2 LNG (Sheet A)'!$H$99","v":0},{"$f":"'TENDER PACK 2 LNG (Sheet A)'!$H$100","v":0},{"$f":"'TENDER PACK 2 LNG (Sheet A)'!$H$102","v":0},{"$f":"'TENDER PACK 2 LNG (Sheet A)'!$H$104","v":0},"No",{"$f":"'TENDER PACK 2 LNG (Sheet A)'!$H$129","v":0},{"$f":"'TENDER PACK 2 LNG (Sheet A)'!$H$131","v":0},"Capacity Holder of LNG Importation with Storage",{"$f":"'TENDER PACK 2 LNG (Sheet A)'!$H$140","v":"00:00:00"},{"$f":"'TENDER PACK 2 LNG (Sheet A)'!$H201","v":0},{"$f":"'TENDER PACK 2 LNG (Sheet A)'!$J$201","v":0},null,{"$f":"'TENDER PACK 2 LNG (Sheet A)'!$H$179","v":0},{"$f":"'TENDER PACK 2 LNG (Sheet A)'!$H$181","v":"00:00:00"},{"$f":"'TENDER PACK 2 LNG (Sheet A)'!$H$185","v":0},{"$f":"'TENDER PACK 2 LNG (Sheet A)'!$H$187","v":0},{"$f":"IF('TENDER PACK 2 LNG (Sheet A)'!$U$189=1,\"12\",IF('TENDER PACK 2 LNG (Sheet A)'!$U$189=2,\"24\",\"UNCHECKED\"))","v":"24"},{"$f":"'TENDER PACK 2 LNG (Sheet A)'!$H$191","v":0},null,{"$f":"'TENDER PACK 2 LNG (Sheet A)'!D201","v":4},{"$f":"'TENDER PACK 2 LNG (Sheet A)'!$F201","v":0},{"$f":"'TENDER PACK 2 LNG (Sheet A)'!$L201","v":0},{"$f":"'TENDER PACK 2 LNG (Sheet A)'!$N201","v":0},{"$f":"'TENDER PACK 2 LNG (Sheet A)'!$P201","v":0},null,{"$f":"'TENDER PACK 2 LNG (Sheet A)'!$H$210","v":0},{"$f":"'TENDER PACK 2 LNG (Sheet A)'!$H$212","v":0},{"$f":"'TENDER PACK 2 LNG (Sheet A)'!$H$222","v":"Indexed Delivery Charge 1"},{"$f":"'TENDER PACK 2 LNG (Sheet A)'!$L$225","v":0},{"$f":"'TENDER PACK 2 LNG (Sheet A)'!$H$228","v":0},{"$f":"'TENDER PACK 2 LNG (Sheet A)'!$H$234","v":0},null,{"$f":"IF('TENDER PACK 2 LNG (Sheet A)'!#REF!=\"\",\"N\",\"Y\")","v":{"$error":"#REF!"}}]
[null,null,null,null,{"$f":"'TENDER PACK 2 LNG (Sheet A)'!$H$88","v":0},{"$f":"'TENDER PACK 2 LNG (Sheet A)'!$H$90","v":0},{"$f":"'TENDER PACK 2 LNG (Sheet A)'!$H$92","v":0},{"$f":"'TENDER PACK 2 LNG (Sheet A)'!$H$96","v":0},{"$f":"'TENDER PACK 2 LNG (Sheet A)'!$H$97","v":0},{"$f":"'TENDER PACK 2 LNG (Sheet A)'!$H$98","v":0},{"$f":"'TENDER PACK 2 LNG (Sheet A)'!$H$99","v":0},{"$f":"'TENDER PACK 2 LNG (Sheet A)'!$H$100","v":0},{"$f":"'TENDER PACK 2 LNG (Sheet A)'!$H$102","v":0},{"$f":"'TENDER PACK 2 LNG (Sheet A)'!$H$104","v":0},"No",{"$f":"'TENDER PACK 2 LNG (Sheet A)'!$H$129","v":0},{"$f":"'TENDER PACK 2 LNG (Sheet A)'!$H$131","v":0},"Capacity Holder of LNG Importation with Storage",{"$f":"'TENDER PACK 2 LNG (Sheet A)'!$H$140","v":"00:00:00"},{"$f":"'TENDER PACK 2 LNG (Sheet A)'!$H202","v":0},{"$f":"'TENDER PACK 2 LNG (Sheet A)'!$J$202","v":0},null,{"$f":"'TENDER PACK 2 LNG (Sheet A)'!$H$179","v":0},{"$f":"'TENDER PACK 2 LNG (Sheet A)'!$H$181","v":"00:00:00"},{"$f":"'TENDER PACK 2 LNG (Sheet A)'!$H$185","v":0},{"$f":"'TENDER PACK 2 LNG (Sheet A)'!$H$187","v":0},{"$f":"IF('TENDER PACK 2 LNG (Sheet A)'!$U$189=1,\"12\",IF('TENDER PACK 2 LNG (Sheet A)'!$U$189=2,\"24\",\"UNCHECKED\"))","v":"24"},{"$f":"'TENDER PACK 2 LNG (Sheet A)'!$H$191","v":0},null,{"$f":"'TENDER PACK 2 LNG (Sheet A)'!D202","v":5},{"$f":"'TENDER PACK 2 LNG (Sheet A)'!$F202","v":0},{"$f":"'TENDER PACK 2 LNG (Sheet A)'!$L202","v":0},{"$f":"'TENDER PACK 2 LNG (Sheet A)'!$N202","v":0},{"$f":"'TENDER PACK 2 LNG (Sheet A)'!$P202","v":0},null,{"$f":"'TENDER PACK 2 LNG (Sheet A)'!$H$210","v":0},{"$f":"'TENDER PACK 2 LNG (Sheet A)'!$H$212","v":0},{"$f":"'TENDER PACK 2 LNG (Sheet A)'!$H$222","v":"Indexed Delivery Charge 1"},{"$f":"'TENDER PACK 2 LNG (Sheet A)'!$L$225","v":0},{"$f":"'TENDER PACK 2 LNG (Sheet A)'!$H$228","v":0},{"$f":"'TENDER PACK 2 LNG (Sheet A)'!$H$234","v":0},null,{"$f":"IF('TENDER PACK 2 LNG (Sheet A)'!#REF!=\"\",\"N\",\"Y\")","v":{"$error":"#REF!"}}]
[null,null,null,null,{"$f":"'TENDER PACK 2 LNG (Sheet A)'!$H$88","v":0},{"$f":"'TENDER PACK 2 LNG (Sheet A)'!$H$90","v":0},{"$f":"'TENDER PACK 2 LNG (Sheet A)'!$H$92","v":0},{"$f":"'TENDER PACK 2 LNG (Sheet A)'!$H$96","v":0},{"$f":"'TENDER PACK 2 LNG (Sheet A)'!$H$97","v":0},{"$f":"'TENDER PACK 2 LNG (Sheet A)'!$H$98","v":0},{"$f":"'TENDER PACK 2 LNG (Sheet A)'!$H$99","v":0},{"$f":"'TENDER PACK 2 LNG (Sheet A)'!$H$100","v":0},{"$f":"'TENDER PACK 2 LNG (Sheet A)'!$H$102","v":0},{"$f":"'TENDER PACK 2 LNG (Sheet A)'!$H$104","v":0},"No",{"$f":"'TENDER PACK 2 LNG (Sheet A)'!$H$129","v":0},{"$f":"'TENDER PACK 2 LNG (Sheet A)'!$H$131","v":0},"Capacity Holder of LNG Importation with Storage",{"$f":"'TENDER PACK 2 LNG (Sheet A)'!$H$140","v":"00:00:00"},{"$f":"'TENDER PACK 2 LNG (Sheet A)'!$H203","v":0},{"$f":"'TENDER PACK 2 LNG (Sheet A)'!$J$203","v":0},null,{"$f":"'TENDER PACK 2 LNG (Sheet A)'!$H$179","v":0},{"$f":"'TENDER PACK 2 LNG (Sheet A)'!$H$181","v":"00:00:00"},{"$f":"'TENDER PACK 2 LNG (Sheet A)'!$H$185","v":0},{"$f":"'TENDER PACK 2 LNG (Sheet A)'!$H$187","v":0},{"$f":"IF('TENDER PACK 2 LNG (Sheet A)'!$U$189=1,\"12\",IF('TENDER PACK 2 LNG (Sheet A)'!$U$189=2,\"24\",\"UNCHECKED\"))","v":"24"},{"$f":"'TENDER PACK 2 LNG (Sheet A)'!$H$191","v":0},null,{"$f":"'TENDER PACK 2 LNG (Sheet A)'!D203","v":6},{"$f":"'TENDER PACK 2 LNG (Sheet A)'!$F203","v":0},{"$f":"'TENDER PACK 2 LNG (Sheet A)'!$L203","v":0},{"$f":"'TENDER PACK 2 LNG (Sheet A)'!$N203","v":0},{"$f":"'TENDER PACK 2 LNG (Sheet A)'!$P203","v":0},null,{"$f":"'TENDER PACK 2 LNG (Sheet A)'!$H$210","v":0},{"$f":"'TENDER PACK 2 LNG (Sheet A)'!$H$212","v":0},{"$f":"'TENDER PACK 2 LNG (Sheet A)'!$H$222","v":"Indexed Delivery Charge 1"},{"$f":"'TENDER PACK 2 LNG (Sheet A)'!$L$225","v":0},{"$f":"'TENDER PACK 2 LNG (Sheet A)'!$H$228","v":0},{"$f":"'TENDER PACK 2 LNG (Sheet A)'!$H$234","v":0},null,{"$f":"IF('TENDER PACK 2 LNG (Sheet A)'!#REF!=\"\",\"N\",\"Y\")","v":{"$error":"#REF!"}}]
[null,null,null,null,{"$f":"'TENDER PACK 2 LNG (Sheet A)'!$H$88","v":0},{"$f":"'TENDER PACK 2 LNG (Sheet A)'!$H$90","v":0},{"$f":"'TENDER PACK 2 LNG (Sheet A)'!$H$92","v":0},{"$f":"'TENDER PACK 2 LNG (Sheet A)'!$H$96","v":0},{"$f":"'TENDER PACK 2 LNG (Sheet A)'!$H$97","v":0},{"$f":"'TENDER PACK 2 LNG (Sheet A)'!$H$98","v":0},{"$f":"'TENDER PACK 2 LNG (Sheet A)'!$H$99","v":0},{"$f":"'TENDER PACK 2 LNG (Sheet A)'!$H$100","v":0},{"$f":"'TENDER PACK 2 LNG (Sheet A)'!$H$102","v":0},{"$f":"'TENDER PACK 2 LNG (Sheet A)'!$H$104","v":0},"No",{"$f":"'TENDER PACK 2 LNG (Sheet A)'!$H$129","v":0},{"$f":"'TENDER PACK 2 LNG (Sheet A)'!$H$131","v":0},"Capacity Holder of LNG Importation with Storage",{"$f":"'TENDER PACK 2 LNG (Sheet A)'!$H$140","v":"00:00:00"},{"$f":"'TENDER PACK 2 LNG (Sheet A)'!$H204","v":0},{"$f":"'TENDER PACK 2 LNG (Sheet A)'!$J$204","v":0},null,{"$f":"'TENDER PACK 2 LNG (Sheet A)'!$H$179","v":0},{"$f":"'TENDER PACK 2 LNG (Sheet A)'!$H$181","v":"00:00:00"},{"$f":"'TENDER PACK 2 LNG (Sheet A)'!$H$185","v":0},{"$f":"'TENDER PACK 2 LNG (Sheet A)'!$H$187","v":0},{"$f":"IF('TENDER PACK 2 LNG (Sheet A)'!$U$189=1,\"12\",IF('TENDER PACK 2 LNG (Sheet A)'!$U$189=2,\"24\",\"UNCHECKED\"))","v":"24"},{"$f":"'TENDER PACK 2 LNG (Sheet A)'!$H$191","v":0},null,{"$f":"'TENDER PACK 2 LNG (Sheet A)'!D204","v":7},{"$f":"'TENDER PACK 2 LNG (Sheet A)'!$F204","v":0},{"$f":"'TENDER PACK 2 LNG (Sheet A)'!$L204","v":0},{"$f":"'TENDER PACK 2 LNG (Sheet A)'!$N204","v":0},{"$f":"'TENDER PACK 2 LNG (Sheet A)'!$P204","v":0},null,{"$f":"'TENDER PACK 2 LNG (Sheet A)'!$H$210","v":0},{"$f":"'TENDER PACK 2 LNG (Sheet A)'!$H$212","v":0},{"$f":"'TENDER PACK 2 LNG (Sheet A)'!$H$222","v":"Indexed Delivery Charge 1"},{"$f":"'TENDER PACK 2 LNG (Sheet A)'!$L$225","v":0},{"$f":"'TENDER PACK 2 LNG (Sheet A)'!$H$228","v":0},{"$f":"'TENDER PACK 2 LNG (Sheet A)'!$H$234","v":0},null,{"$f":"IF('TENDER PACK 2 LNG (Sheet A)'!#REF!=\"\",\"N\",\"Y\")","v":{"$error":"#REF!"}}]
[null,null,null,null,{"$f":"'TENDER PACK 2 LNG (Sheet A)'!$H$88","v":0},{"$f":"'TENDER PACK 2 LNG (Sheet A)'!$H$90","v":0},{"$f":"'TENDER PACK 2 LNG (Sheet A)'!$H$92","v":0},{"$f":"'TENDER PACK 2 LNG (Sheet A)'!$H$96","v":0},{"$f":"'TENDER PACK 2 LNG (Sheet A)'!$H$97","v":0},{"$f":"'TENDER PACK 2 LNG (Sheet A)'!$H$98","v":0},{"$f":"'TENDER PACK 2 LNG (Sheet A)'!$H$99","v":0},{"$f":"'TENDER PACK 2 LNG (Sheet A)'!$H$100","v":0},{"$f":"'TENDER PACK 2 LNG (Sheet A)'!$H$102","v":0},{"$f":"'TENDER PACK 2 LNG (Sheet A)'!$H$104","v":0},"No",{"$f":"'TENDER PACK 2 LNG (Sheet A)'!$H$129","v":0},{"$f":"'TENDER PACK 2 LNG (Sheet A)'!$H$131","v":0},"Capacity Holder of LNG Importation with Storage",{"$f":"'TENDER PACK 2 LNG (Sheet A)'!$H$140","v":"00:00:00"},{"$f":"'TENDER PACK 2 LNG (Sheet A)'!$H205","v":0},{"$f":"'TENDER PACK 2 LNG (Sheet A)'!$J$205","v":0},null,{"$f":"'TENDER PACK 2 LNG (Sheet A)'!$H$179","v":0},{"$f":"'TENDER PACK 2 LNG (Sheet A)'!$H$181","v":"00:00:00"},{"$f":"'TENDER PACK 2 LNG (Sheet A)'!$H$185","v":0},{"$f":"'TENDER PACK 2 LNG (Sheet A)'!$H$187","v":0},{"$f":"IF('TENDER PACK 2 LNG (Sheet A)'!$U$189=1,\"12\",IF('TENDER PACK 2 LNG (Sheet A)'!$U$189=2,\"24\",\"UNCHECKED\"))","v":"24"},{"$f":"'TENDER PACK 2 LNG (Sheet A)'!$H$191","v":0},null,{"$f":"'TENDER PACK 2 LNG (Sheet A)'!D205","v":8},{"$f":"'TENDER PACK 2 LNG (Sheet A)'!$F205","v":0},{"$f":"'TENDER PACK 2 LNG (Sheet A)'!$L205","v":0},{"$f":"'TENDER PACK 2 LNG (Sheet A)'!$N205","v":0},{"$f":"'TENDER PACK 2 LNG (Sheet A)'!$P205","v":0},null,{"$f":"'TENDER PACK 2 LNG (Sheet A)'!$H$210","v":0},{"$f":"'TENDER PACK 2 LNG (Sheet A)'!$H$212","v":0},{"$f":"'TENDER PACK 2 LNG (Sheet A)'!$H$222","v":"Indexed Delivery Charge 1"},{"$f":"'TENDER PACK 2 LNG (Sheet A)'!$L$225","v":0},{"$f":"'TENDER PACK 2 LNG (Sheet A)'!$H$228","v":0},{"$f":"'TENDER PACK 2 LNG (Sheet A)'!$H$234","v":0},null,{"$f":"IF('TENDER PACK 2 LNG (Sheet A)'!#REF!=\"\",\"N\",\"Y\")","v":{"$error":"#REF!"}}]
[null,null,null,null,{"$f":"'TENDER PACK 2 LNG (Sheet A)'!$H$88","v":0},{"$f":"'TENDER PACK 2 LNG (Sheet A)'!$H$90","v":0},{"$f":"'TENDER PACK 2 LNG (Sheet A)'!$H$92","v":0},{"$f":"'TENDER PACK 2 LNG (Sheet A)'!$H$96","v":0},{"$f":"'TENDER PACK 2 LNG (Sheet A)'!$H$97","v":0},{"$f":"'TENDER PACK 2 LNG (Sheet A)'!$H$98","v":0},{"$f":"'TENDER PACK 2 LNG (Sheet A)'!$H$99","v":0},{"$f":"'TENDER PACK 2 LNG (Sheet A)'!$H$100","v":0},{"$f":"'TENDER PACK 2 LNG (Sheet A)'!$H$102","v":0},{"$f":"'TENDER PACK 2 LNG (Sheet A)'!$H$104","v":0},"No",{"$f":"'TENDER PACK 2 LNG (Sheet A)'!$H$129","v":0},{"$f":"'TENDER PACK 2 LNG (Sheet A)'!$H$131","v":0},"Capacity Holder of LNG Importation with Storage",{"$f":"'TENDER PACK 2 LNG (Sheet A)'!$H$140","v":"00:00:00"},{"$f":"'TENDER PACK 2 LNG (Sheet A)'!$H206","v":0},{"$f":"'TENDER PACK 2 LNG (Sheet A)'!$J$206","v":0},null,{"$f":"'TENDER PACK 2 LNG (Sheet A)'!$H$179","v":0},{"$f":"'TENDER PACK 2 LNG (Sheet A)'!$H$181","v":"00:00:00"},{"$f":"'TENDER PACK 2 LNG (Sheet A)'!$H$185","v":0},{"$f":"'TENDER PACK 2 LNG (Sheet A)'!$H$187","v":0},{"$f":"IF('TENDER PACK 2 LNG (Sheet A)'!$U$189=1,\"12\",IF('TENDER PACK 2 LNG (Sheet A)'!$U$189=2,\"24\",\"UNCHECKED\"))","v":"24"},{"$f":"'TENDER PACK 2 LNG (Sheet A)'!$H$191","v":0},null,{"$f":"'TENDER PACK 2 LNG (Sheet A)'!D206","v":9},{"$f":"'TENDER PACK 2 LNG (Sheet A)'!$F206","v":0},{"$f":"'TENDER PACK 2 LNG (Sheet A)'!$L206","v":0},{"$f":"'TENDER PACK 2 LNG (Sheet A)'!$N206","v":0},{"$f":"'TENDER PACK 2 LNG (Sheet A)'!$P206","v":0},null,{"$f":"'TENDER PACK 2 LNG (Sheet A)'!$H$210","v":0},{"$f":"'TENDER PACK 2 LNG (Sheet A)'!$H$212","v":0},{"$f":"'TENDER PACK 2 LNG (Sheet A)'!$H$222","v":"Indexed Delivery Charge 1"},{"$f":"'TENDER PACK 2 LNG (Sheet A)'!$L$225","v":0},{"$f":"'TENDER PACK 2 LNG (Sheet A)'!$H$228","v":0},{"$f":"'TENDER PACK 2 LNG (Sheet A)'!$H$234","v":0},null,{"$f":"IF('TENDER PACK 2 LNG (Sheet A)'!#REF!=\"\",\"N\",\"Y\")","v":{"$error":"#REF!"}}]
[null,null,null,null,{"$f":"'TENDER PACK 2 LNG (Sheet A)'!$H$88","v":0},{"$f":"'TENDER PACK 2 LNG (Sheet A)'!$H$90","v":0},{"$f":"'TENDER PACK 2 LNG (Sheet A)'!$H$92","v":0},{"$f":"'TENDER PACK 2 LNG (Sheet A)'!$H$96","v":0},{"$f":"'TENDER PACK 2 LNG (Sheet A)'!$H$97","v":0},{"$f":"'TENDER PACK 2 LNG (Sheet A)'!$H$98","v":0},{"$f":"'TENDER PACK 2 LNG (Sheet A)'!$H$99","v":0},{"$f":"'TENDER PACK 2 LNG (Sheet A)'!$H$100","v":0},{"$f":"'TENDER PACK 2 LNG (Sheet A)'!$H$102","v":0},{"$f":"'TENDER PACK 2 LNG (Sheet A)'!$H$104","v":0},"No",{"$f":"'TENDER PACK 2 LNG (Sheet A)'!$H$129","v":0},{"$f":"'TENDER PACK 2 LNG (Sheet A)'!$H$131","v":0},"Capacity Holder of LNG Importation with Storage",{"$f":"'TENDER PACK 2 LNG (Sheet A)'!$H$140","v":"00:00:00"},{"$f":"'TENDER PACK 2 LNG (Sheet A)'!$H207","v":0},{"$f":"'TENDER PACK 2 LNG (Sheet A)'!$J$207","v":0},null,{"$f":"'TENDER PACK 2 LNG (Sheet A)'!$H$179","v":0},{"$f":"'TENDER PACK 2 LNG (Sheet A)'!$H$181","v":"00:00:00"},{"$f":"'TENDER PACK 2 LNG (Sheet A)'!$H$185","v":0},{"$f":"'TENDER PACK 2 LNG (Sheet A)'!$H$187","v":0},{"$f":"IF('TENDER PACK 2 LNG (Sheet A)'!$U$189=1,\"12\",IF('TENDER PACK 2 LNG (Sheet A)'!$U$189=2,\"24\",\"UNCHECKED\"))","v":"24"},{"$f":"'TENDER PACK 2 LNG (Sheet A)'!$H$191","v":0},null,{"$f":"'TENDER PACK 2 LNG (Sheet A)'!D207","v":10},{"$f":"'TENDER PACK 2 LNG (Sheet A)'!$F207","v":0},{"$f":"'TENDER PACK 2 LNG (Sheet A)'!$L207","v":0},{"$f":"'TENDER PACK 2 LNG (Sheet A)'!$N207","v":0},{"$f":"'TENDER PACK 2 LNG (Sheet A)'!$P207","v":0},null,{"$f":"'TENDER PACK 2 LNG (Sheet A)'!$H$210","v":0},{"$f":"'TENDER PACK 2 LNG (Sheet A)'!$H$212","v":0},{"$f":"'TENDER PACK 2 LNG (Sheet A)'!$H$222","v":"Indexed Delivery Charge 1"},{"$f":"'TENDER PACK 2 LNG (Sheet A)'!$L$225","v":0},{"$f":"'TENDER PACK 2 LNG (Sheet A)'!$H$228","v":0},{"$f":"'TENDER PACK 2 LNG (Sheet A)'!$H$234","v":0},null,{"$f":"IF('TENDER PACK 2 LNG (Sheet A)'!#REF!=\"\",\"N\",\"Y\")","v":{"$error":"#REF!"}}]

{"sheet":"TENDER PACK 2 LNG (Sheet A)","index":1,"n_rows":236,"n_cols":22,"rows_kept":236,"cut":false,"hidden":false,"merged":[[95,3,95,6],[96,3,96,6],[97,3,97,6],[95,7,95,18],[96,7,96,18],[97,7,97,18],[23,20,24,20],[24,3,24,18],[25,3,25,18],[27,3,38,18],[27,20,29,20],[42,3,42,18],[2,3,6,18],[3,20,5,20],[13,3,14,18],[16,3,22,18],[17,20,20,20],[91,2,94,2],[91,3,94,6],[43,3,47,18],[43,20,45,20],[49,3,61,18],[53,20,55,20],[82,3,83,18],[85,3,85,18],[87,7,88,18],[89,7,90,18],[91,7,94,18],[87,2,88,2],[87,3,88,6],[89,3,90,6],[98,7,98,18],[99,7,100,18],[101,7,101,18],[128,2,129,2],[128,3,129,6],[130,2,134,2],[130,3,134,6],[103,3,103,6],[105,3,105,18],[107,3,108,18],[123,3,124,18],[126,3,126,18],[103,7,103,18],[128,7,129,18],[130,7,134,18],[102,3,102,16],[98,3,98,6],[99,3,100,6],[101,3,101,6],[169,20,171,20],[172,2,173,2],[176,2,177,2],[174,2,175,2],[169,3,177,18],[164,3,165,18],[167,3,167,18],[169,2,171,2],[135,2,138,2],[135,3,138,6],[139,2,141,2],[139,3,141,6],[135,7,138,18],[139,7,141,18],[145,7,147,18],[142,3,144,6],[142,7,144,18],[184,2,185,2],[184,3,185,6],[186,2,187,2],[186,3,187,6],[178,2,179,2],[178,3,179,6],[178,17,179,18],[180,2,183,2],[180,3,183,6],[180,17,183,18],[178,7,179,16],[180,7,183,16],[184,7,185,18],[186,7,187,18],[193,2,194,2],[193,3,193,18],[188,2,189,2],[188,3,189,6],[188,17,189,18],[190,2,191,2],[190,3,191,6],[190,17,191,18],[188,7,189,16],[190,7,191,16],[195,3,195,4],[195,5,195,6],[195,11,195,12],[195,13,195,14],[195,15,195,16],[195,17,195,18],[196,3,196,4],[197,3,197,4],[196,5,196,6],[197,5,197,6],[196,11,196,12],[197,11,197,12],[196,13,196,14],[197,13,197,14],[196,15,196,16],[197,15,197,16],[196,17,196,18],[197,17,197,18],[196,7,196,8],[196,9,196,10],[197,7,197,8],[197,9,197,10],[198,17,198,18],[199,17,199,18],[200,3,200,4],[201,3,201,4],[200,5,200,6],[201,5,201,6],[200,11,200,12],[201,11,201,12],[200,13,200,14],[201,13,201,14],[200,15,200,16],[201,15,201,16],[200,17,200,18],[201,17,201,18],[198,3,198,4],[199,3,199,4],[198,5,198,6],[199,5,199,6],[198,11,198,12],[199,11,199,12],[198,13,198,14],[199,13,199,14],[198,15,198,16],[199,15,199,16],[202,3,202,4],[203,3,203,4],[202,5,202,6],[203,5,203,6],[202,11,202,12],[203,11,203,12],[202,13,202,14],[203,13,203,14],[202,15,202,16],[203,15,203,16],[203,17,203,18],[204,3,204,4],[205,3,205,4],[204,5,204,6],[205,5,205,6],[204,11,204,12],[205,11,205,12],[204,13,204,14],[205,13,205,14],[204,15,204,16],[205,15,205,16],[204,17,204,18],[205,17,205,18],[209,3,210,6],[209,17,210,18],[211,2,212,2],[211,3,212,6],[211,17,212,18],[206,3,206,4],[207,3,207,4],[206,5,206,6],[207,5,207,6],[206,11,206,12],[207,11,207,12],[206,13,206,14],[207,13,207,14],[206,15,206,16],[207,7,207,8],[207,9,207,10],[209,7,210,16],[211,7,212,16],[206,7,206,8],[221,2,226,2],[221,3,226,6],[221,17,226,18],[236,20,238,20],[145,3,147,6],[145,2,147,2],[8,3,11,13],[8,15,11,18],[8,14,11,14],[233,2,234,2],[233,3,234,6],[233,17,234,18],[235,2,238,2],[235,3,238,6],[227,2,232,2],[227,3,232,6],[227,17,232,18],[216,3,217,18],[219,3,219,18],[206,17,206,18],[207,15,207,16],[207,17,207,18],[209,2,210,2],[99,2,100,2],[221,7,226,16],[227,7,232,16],[233,7,234,16],[235,7,238,18],[195,7,195,8],[195,9,195,10],[198,9,198,10],[199,9,199,10],[200,9,200,10],[201,9,201,10],[202,9,202,10],[203,9,203,10],[204,9,204,10],[205,9,205,10],[206,9,206,10],[198,7,198,8],[199,7,199,8],[200,7,200,8],[201,7,201,8],[202,7,202,8],[203,7,203,8],[204,7,204,8],[205,7,205,8],[202,17,202,18]]}
[]
[]
[null,null,null,"\nTENDER PACK 2\nOPERATING MARGINS \n2026/27 GAS DELIVERY TENDER (LNG STORAGE) \nSHEET A - MANDATORY 12 MONTH BID\n"]
[]
[]
[]
[]
[]
[null,null,null,"This tender pack is designed for;\n• Capacity Holders at LNG Importation with Storage Facilities\n",null,null,null,null,null,null,null,null,null,null,null,"Submission of this sheet is mandatory for LNG Tenderers"]
[]
[]
[]
[]
[null,null,null,"Issued November 2025"]
[]
[]
[null,null,null,"Produced by National Gas Transmission  \nNational Gas Transmission plc\nWarwick Technology Park\nGallows Hill\nWarwick\nCV34 6DA"]
[]
[]
[]
[]
[]
[]
[]
[null,null,null,"Website:"]
[null,null,null,"https://www.nationalgas.com/our-businesses/operating-margins"]
[]
[null,null,null,"PLEASE NOTE:\nThis document should be read in conjunction with the template Operating Margins agreements (found on the Operating Margins Homepage) and the document entitled \"Tender Guidance Document 2026/27\".\n\nSpecific guidance on how to complete these tender sheets is provided in Sections 7 & 8 of the Operating Margins Tender Guidance Document with specific cross-references to these tender sheets via superscript numbers adjacent to the relevant fields of information. Please also refer to Section 6 \"Requirements of the Tender Process\" in order to understand what must accompany the tender sheets as part of submission in order that assessment can proceed on any tenders received.\n\nTerms and phrases used in this document have the meanings set out or referred to in the template Operating Margins agreements and/or the Operating Margins Tender Guidance Document."]
[]
[]
[]
[]
[]
[]
[]
[]
[]
[]
[]
[]
[]
[]
[null,null,null,"IMPORTANT INFORMATION - PLEASE READ:"]
[null,null,null,"• All parts of 'Sheet A' must be completed by all LNG tenderers and submitted to be eligible for assessment.\n• An LNG tenderer may submit an additional proposal for a 12 month OM service in the form of 'Sheet B', whereby tranches are split differently (Part 5). This is optional. \n\n**Volumes in Sheets A and B will be treated as mutually exclusive - i.e. National Gas will only consider accepting tranche(s) from ONE of Sheet A or Sheet B**"]
[]
[]
[]
[]
[]
[null,null,null,"Completed Tenders should be submitted by 13:00 hours (GMT) on Wednesday 7th January 2026 via Ariba.\n\nThe completed Tender Pack should be uploaded with a filename which includes the company name and site.\nAfter uploading the Tender Pack document, terms and conditions must be accepted before submitting.\nSubmissions can be revised until the deadline."]
[]
[]
[]
[]
[]
[]
[]
[]
[]
[]
[]
[]
[]
[]
[]
[]
[]
[]
[]
[]
[]
[]
[]
[]
[]
[]
[]
[]
[]
[]
[]
[]
[null,null,null,"2026/27 OM DELIVERY TENDER (LNG)"]
[]
[]
[null,null,null,"Part 1: Tenderer Details"]
[]
[null,null,1,"Tenderer's Company Name\n(Including registered office address and company number)"]
[]
[null,null,2,"Company Representative, Job Title"]
[]
[null,null,3,"Company Representative Address\n(full address including postcode)"]
[]
[]
[]
[null,null,4,"Telephone Number"]
[]
[null,null,5,"Email Address"]
[null,null,6,"Legal Agent Name"]
[null,null,7,"Legal Agent Address"]
[]
[null,null,8,"Shipper Short Code"]
[null,null,9,"Please confirm that your organisation uses an accredited and industry-recognised digital security management system that manages cyber and information security risks across the full asset lifecycle, including design, architecture, development, testing, commissioning, and post-installation support.\n \nExamples of acceptable standards include (but are not limited to) the following:\n \n•\tISO/IEC 27001 certification\n•\tCyber Essentials / Cyber Essentials Plus (UK government-backed)\n•\tIEC 62443 (for industrial control systems)\n•\tAlignment with the NIST Cybersecurity Framework\n \nNotes:\nIf successful and following contract award notification, OM Service providers will be required to complete a security questionnaire, in order for National Gas to ensure audit compliance.  \n \nIf you fail to provide a response to this question, NGT reserves the right to discount you from the tender process.",null,null,null,null,null,null,null,null,null,null,null,null,null,"Click checkbox to confirm agreement and adherence ",false]
[null,null,10,"Achilles Registration Number"]
[]
[null,null,null,"Part 2"]
[]
[null,null,null,"[See OM Tenderers Contract Response Form if such amendments are proposed]\nIf no amendments are proposed please go to Part 3"]
[]
[]
[]
[]
[]
[]
[]
[]
[]
[]
[]
[]
[]
[]
[]
[null,null,null,"2026/27 OM DELIVERY TENDER (LNG)"]
[]
[]
[null,null,null,"Part 3: Facility Details"]
[]
[null,null,11,"Facility Name\n(including company number)"]
[]
[null,null,12,"Facility Location\n(full address including postcode)"]
[]
[]
[]
[]
[null,null,13,"Service Provision Category",null,null,null,"Capacity Holder of LNG Importation with Storage",null,null,null,null,null,null,null,null,null,null,null,null,null,"Operator of LNG Importation with Storage"]
[null,null,null,null,null,null,null,null,null,null,null,null,null,null,null,null,null,null,null,null,null,"Capacity Holder of LNG Importation with Storage"]
[]
[]
[null,null,14,"Execution Date For Tenderer’s Agreement With Facility Operator"]
[]
[]
[null,null,null,"Duration of Service",null,null,null,"12 Months (01/05/2026 - 30/04/2027)"]
[null,null,15]
[]
[null,null,16,"Service Provider contact details for operational notices \nEmployee Position / role, Address, Telephone numbers and email details."]
[]
[]
[]
[]
[]
[]
[]
[]
[]
[]
[]
[]
[]
[]
[]
[]
[]
[]
[null,null,null,"2026/27 OM DELIVERY TENDER (LNG)"]
[]
[]
[null,null,null,"Part 4: Deliverability & Availability"]
[]
[null,null,null,"FOR ENTERING LNG WITHDRAWAL RATES PLEASE SEE 24 AND 25"]
[]
[]
[]
[]
[]
[]
[]
[]
[null,null,17,"Response Time",null,null,null,null,null,null,null,null,null,null,null,null,null,"Minutes"]
[]
[null,null,18,"Planned Maintenance Periods",null,null,null,null,null,null,null,null,null,null,null,null,null,"Dates"]
[]
[]
[]
[null,null,19,"Website for Service Availability / Unavailability"]
[]
[null,null,20,"Allocation Agent                                                                  (Name, Address, Tel No)"]
[]
[null,null,21,"Maximum Delivery Duration",null,null,null,null,null,null,null,null,null,null,null,null,null,"hours",null,null,2]
[]
[null,null,22,"Minimum Delivery Duration\n(Optional) (if left blank delivery deemed at 0)",null,null,null,null,null,null,null,null,null,null,null,null,null,"hours"]
[]
[]
[null,null,null,"Part 5: Charges"]
[]
[null,null,null,23,null,24,null,25,null,26,null,27,null,28,null,29,null,30]
[null,null,null,"LNG Procurement Tranche Number",null,"Service Quantity (in kWh)",null,"Maximum Customer Delivery Rate (Tendered for the purposes of OM)\n(must be greater or equal to 500,000 kWh/hour)",null,"Minimum Customer Delivery Rate (Tendered for the purposes of OM)\n(optional) (if left blank delivery deemed at 0",null,"Estimated  Required LNG Quantity kWh",null,"Tranche may only be accepted in full (YES / NO)",null,"Annual Service Fee (in pence per kWh per annum)",null,"Annual Service Fee (£)"]
[null,null,null,1,null,null,null,null,null,null,null,null,null,null,null,null,null,{"$f":"(F198*P198)/100","v":0}]
[null,null,null,2,null,null,null,null,null,null,null,null,null,null,null,null,null,{"$f":"(F199*P199)/100","v":0}]
[null,null,null,3,null,null,null,null,null,null,null,null,null,null,null,null,null,0]
[null,null,null,4,null,null,null,null,null,null,null,null,null,null,null,null,null,0]
[null,null,null,5,null,null,null,null,null,null,null,null,null,null,null,null,null,0]
[null,null,null,6,null,null,null,null,null,null,null,null,null,null,null,null,null,0]
[null,null,null,7,null,null,null,null,null,null,null,null,null,null,null,null,null,0]
[null,null,null,8,null,null,null,null,null,null,null,null,null,null,null,null,null,0]
[null,null,null,9,null,null,null,null,null,null,null,null,null,null,null,null,null,0]
[null,null,null,10,null,null,null,null,null,null,null,null,null,null,null,null,null,0]
[null,null,null,"Total",null,{"$f":"SUM(F198:G207)","v":0},null,{"$f":"SUM(H198:I207)","v":0},null,{"$f":"SUM(J198:K207)","v":0},null,{"$f":"SUM(L198:M207)","v":0},null,null,null,null,null,{"$f":"SUM(R198:S207)","v":0}]
[]
[null,null,31,"Minimum Inventory ",null,null,null,null,null,null,null,null,null,null,null,null,null,"kWh"]
[]
[null,null,32,"Maximum Facility Delivery Capacity",null,null,null,null,null,null,null,null,null,null,null,null,null,"kWh/h"]
[]
[]
[]
[]
[null,null,null,"2026/27 OM DELIVERY TENDER (LNG)"]
[]
[]
[null,null,null,"Part 5: Charges (Continued)"]
[]
[null,null,33,"Indexed Delivery Charge\n",null,null,null,"Indexed Delivery Charge 1",null,null,null,null,null,null,null,null,null,"See Guidance Document"]
[]
[]
[]
[]
[]
[null,null,34,"Overrun Delivery Rate\n",null,null,null,null,null,null,null,null,null,null,null,null,null,"p/kWh, See Guidance Document"]
[]
[]
[]
[]
[]
[null,null,35,"Additional SP Delivery Capacity Charge Rate",null,null,null,null,null,null,null,null,null,null,null,null,null,"p/kWh, See Guidance Document"]
[]
[null,null,36,"Additional Nomination Restrictions "]

{"sheet":"TENDER PACK 2 LNG (Sheet B)","index":2,"n_rows":236,"n_cols":22,"rows_kept":236,"cut":false,"hidden":false,"merged":[[235,2,238,2],[235,3,238,6],[235,7,238,18],[236,20,238,20],[227,2,232,2],[227,3,232,6],[227,7,232,16],[227,17,232,18],[233,2,234,2],[233,3,234,6],[233,7,234,16],[233,17,234,18],[216,3,217,18],[219,3,219,18],[221,2,226,2],[221,3,226,6],[221,7,226,16],[221,17,226,18],[209,2,210,2],[209,3,210,6],[209,7,210,16],[209,17,210,18],[211,2,212,2],[211,3,212,6],[211,7,212,16],[211,17,212,18],[206,15,206,16],[206,17,206,18],[207,3,207,4],[207,5,207,6],[207,7,207,8],[207,9,207,10],[207,11,207,12],[207,13,207,14],[207,15,207,16],[207,17,207,18],[206,3,206,4],[206,5,206,6],[206,7,206,8],[206,9,206,10],[206,11,206,12],[206,13,206,14],[204,15,204,16],[204,17,204,18],[205,3,205,4],[205,5,205,6],[205,7,205,8],[205,9,205,10],[205,11,205,12],[205,13,205,14],[205,15,205,16],[205,17,205,18],[204,3,204,4],[204,5,204,6],[204,7,204,8],[204,9,204,10],[204,11,204,12],[204,13,204,14],[202,15,202,16],[202,17,202,18],[203,3,203,4],[203,5,203,6],[203,7,203,8],[203,9,203,10],[203,11,203,12],[203,13,203,14],[203,15,203,16],[203,17,203,18],[202,3,202,4],[202,5,202,6],[202,7,202,8],[202,9,202,10],[202,11,202,12],[202,13,202,14],[200,15,200,16],[200,17,200,18],[201,3,201,4],[201,5,201,6],[201,7,201,8],[201,9,201,10],[201,11,201,12],[201,13,201,14],[201,15,201,16],[201,17,201,18],[200,3,200,4],[200,5,200,6],[200,7,200,8],[200,9,200,10],[200,11,200,12],[200,13,200,14],[198,15,198,16],[198,17,198,18],[199,3,199,4],[199,5,199,6],[199,7,199,8],[199,9,199,10],[199,11,199,12],[199,13,199,14],[199,15,199,16],[199,17,199,18],[198,3,198,4],[198,5,198,6],[198,7,198,8],[198,9,198,10],[198,11,198,12],[198,13,198,14],[196,15,196,16],[196,17,196,18],[197,3,197,4],[197,5,197,6],[197,7,197,8],[197,9,197,10],[197,11,197,12],[197,13,197,14],[197,15,197,16],[197,17,197,18],[196,3,196,4],[196,5,196,6],[196,7,196,8],[196,9,196,10],[196,11,196,12],[196,13,196,14],[193,2,194,2],[193,3,193,18],[195,3,195,4],[195,5,195,6],[195,7,195,8],[195,9,195,10],[195,11,195,12],[195,13,195,14],[195,15,195,16],[195,17,195,18],[188,2,189,2],[188,3,189,6],[188,7,189,16],[188,17,189,18],[190,2,191,2],[190,3,191,6],[190,7,191,16],[190,17,191,18],[184,2,185,2],[184,3,185,6],[184,7,185,18],[186,2,187,2],[186,3,187,6],[186,7,187,18],[178,2,179,2],[178,3,179,6],[178,7,179,16],[178,17,179,18],[180,2,183,2],[180,3,183,6],[180,7,183,16],[180,17,183,18],[164,3,165,18],[167,3,167,18],[169,2,171,2],[169,3,177,18],[169,20,171,20],[172,2,173,2],[174,2,175,2],[176,2,177,2],[139,2,141,2],[139,3,141,6],[139,7,141,18],[142,3,144,6],[142,7,144,18],[145,2,147,2],[145,3,147,6],[145,7,147,18],[130,2,134,2],[130,3,134,6],[130,7,134,18],[135,2,138,2],[135,3,138,6],[135,7,138,18],[105,3,105,18],[107,3,108,18],[123,3,124,18],[126,3,126,18],[128,2,129,2],[128,3,129,6],[128,7,129,18],[101,3,101,6],[101,7,101,18],[103,3,103,6],[103,7,103,18],[97,3,97,6],[97,7,97,18],[98,3,98,6],[98,7,98,18],[102,3,102,16],[99,2,100,2],[99,3,100,6],[99,7,100,18],[91,2,94,2],[91,3,94,6],[91,7,94,18],[95,3,95,6],[95,7,95,18],[96,3,96,6],[96,7,96,18],[85,3,85,18],[87,2,88,2],[87,3,88,6],[87,7,88,18],[89,3,90,6],[89,7,90,18],[42,3,42,18],[43,3,47,18],[43,20,45,20],[49,3,61,18],[53,20,55,20],[82,3,83,18],[16,3,22,18],[17,20,20,20],[23,20,24,20],[24,3,24,18],[25,3,25,18],[27,3,38,18],[27,20,29,20],[2,3,6,18],[3,20,5,20],[8,3,11,13],[8,14,11,14],[8,15,11,18],[13,3,14,18]]}
[]
[]
[null,null,null,"\nTENDER PACK 2\nOPERATING MARGINS \n2026/27 GAS DELIVERY TENDER (LNG STORAGE) \nSHEET B - OPTIONAL 12 MONTH BID\n"]
[]
[]
[]
[]
[]
[null,null,null,"This tender pack is designed for;\n• Capacity Holders at LNG Importation with Storage Facilities\n",null,null,null,null,null,null,null,null,null,null,null,"Submission of this sheet is optional for LNG Tenderers"]
[]
[]
[]
[]
[null,null,null,"Issued November 2025"]
[]
[]
[null,null,null,"Produced by National Gas Transmission  \nNational Gas Transmission plc\nWarwick Technology Park\nGallows Hill\nWarwick\nCV34 6DA"]
[]
[]
[]
[]
[]
[]
[]
[null,null,null,"Website:"]
[null,null,null,"https://www.nationalgas.com/our-businesses/operating-margins"]
[]
[null,null,null,"PLEASE NOTE:\nThis document should be read in conjunction with the template Operating Margins agreements (found on the Operating Margins Homepage) and the document entitled \"Tender Guidance Document 2026/27\".\n\nSpecific guidance on how to complete these tender sheets is provided in Sections 7 & 8 of the Operating Margins Tender Guidance Document with specific cross-references to these tender sheets via superscript numbers adjacent to the relevant fields of information. Please also refer to Section 6 \"Requirements of the Tender Process\" in order to understand what must accompany the tender sheets as part of submission in order that assessment can proceed on any tenders received.\n\nTerms and phrases used in this document have the meanings set out or referred to in the template Operating Margins agreements and/or the Operating Margins Tender Guidance Document."]
[]
[]
[]
[]
[]
[]
[]
[]
[]
[]
[]
[]
[]
[]
[null,null,null,"IMPORTANT INFORMATION - PLEASE READ:"]
[null,null,null,"• All parts of 'Sheet A' must be completed by all LNG tenderers and submitted to be eligible for assessment.\n• An LNG tenderer may submit an additional proposal for a 12 month OM service in the form of 'Sheet B', whereby tranches are split differently (Part 5). This is optional. \n\n**Volumes in Sheets A and B will be treated as mutually exclusive - i.e. National Gas will only consider accepting tranche(s) from ONE of Sheet A or Sheet B**"]
[]
[]
[]
[]
[]
[null,null,null,"Completed Tenders should be submitted by 13:00 hours (GMT) on Wednesday 7th January 2026 via Ariba.\n\nThe completed Tender Pack should be uploaded with a filename which includes the company name and site.\nAfter uploading the Tender Pack document, terms and conditions must be accepted before submitting.\nSubmissions can be revised until the deadline."]
[]
[]
[]
[]
[]
[]
[]
[]
[]
[]
[]
[]
[]
[]
[]
[]
[]
[]
[]
[]
[]
[]
[]
[]
[]
[]
[]
[]
[]
[]
[]
[]
[null,null,null,"2026/27 OM DELIVERY TENDER (LNG)"]
[]
[]
[null,null,null,"Part 1: Tenderer Details"]
[]
[null,null,1,"Tenderer's Company Name\n(Including registered office address and company number)"]
[]
[null,null,2,"Company Representative, Job Title"]
[]
[null,null,3,"Company Representative Address\n(full address including postcode)"]
[]
[]
[]
[null,null,4,"Telephone Number"]
[]
[null,null,5,"Email Address"]
[null,null,6,"Legal Agent Name"]
[null,null,7,"Legal Agent Address"]
[]
[null,null,8,"Shipper Short Code"]
[null,null,9,"Please confirm that your organisation uses an accredited and industry-recognised digital security management system that manages cyber and information security risks across the full asset lifecycle, including design, architecture, development, testing, commissioning, and post-installation support.\n \nExamples of acceptable standards include (but are not limited to) the following:\n \n•\tISO/IEC 27001 certification\n•\tCyber Essentials / Cyber Essentials Plus (UK government-backed)\n•\tIEC 62443 (for industrial control systems)\n•\tAlignment with the NIST Cybersecurity Framework\n \nNotes:\nIf successful and following contract award notification, OM Service providers will be required to complete a security questionnaire, in order for National Gas to ensure audit compliance.  \n \nIf you fail to provide a response to this question, NGT reserves the right to discount you from the tender process.",null,null,null,null,null,null,null,null,null,null,null,null,null,"Click checkbox to confirm agreement and adherence ",false]
[null,null,10,"Achilles Registration Number"]
[]
[null,null,null,"Part 2"]
[]
[null,null,null,"[See OM Tenderers Contract Response Form if such amendments are proposed]\nIf no amendments are proposed please go to Part 3"]
[]
[]
[]
[]
[]
[]
[]
[]
[]
[]
[]
[]
[]
[]
[]
[null,null,null,"2026/27 OM DELIVERY TENDER (LNG)"]
[]
[]
[null,null,null,"Part 3: Facility Details"]
[]
[null,null,11,"Facility Name\n(including company number)"]
[]
[null,null,12,"Facility Location\n(full address including postcode)"]
[]
[]
[]
[]
[null,null,13,"Service Provision Category",null,null,null,"Capacity Holder of LNG Importation with Storage",null,null,null,null,null,null,null,null,null,null,null,null,null,"Operator of LNG Importation with Storage"]
[null,null,null,null,null,null,null,null,null,null,null,null,null,null,null,null,null,null,null,null,null,"Capacity Holder of LNG Importation with Storage"]
[]
[]
[null,null,14,"Execution Date For Tenderer’s Agreement With Facility Operator"]
[]
[]
[null,null,null,"Duration of Service",null,null,null,"12 Months (01/05/2026 - 30/04/2027)"]
[null,null,15]
[]
[null,null,16,"Service Provider contact details for operational notices \nEmployee Position / role, Address, Telephone numbers and email details."]
[]
[]
[]
[]
[]
[]
[]
[]
[]
[]
[]
[]
[]
[]
[]
[]
[]
[]
[null,null,null,"2026/27 OM DELIVERY TENDER (LNG)"]
[]
[]
[null,null,null,"Part 4: Deliverability & Availability"]
[]
[null,null,null,"FOR ENTERING LNG WITHDRAWAL RATES PLEASE SEE 24 AND 25"]
[]
[]
[]
[]
[]
[]
[]
[]
[null,null,17,"Response Time",null,null,null,null,null,null,null,null,null,null,null,null,null,"Minutes"]
[]
[null,null,18,"Planned Maintenance Periods",null,null,null,null,null,null,null,null,null,null,null,null,null,"Dates"]
[]
[]
[]
[null,null,19,"Website for Service Availability / Unavailability"]
[]
[null,null,20,"Allocation Agent                                                                  (Name, Address, Tel No)"]
[]
[null,null,21,"Maximum Delivery Duration",null,null,null,null,null,null,null,null,null,null,null,null,null,"hours",null,null,2]
[]
[null,null,22,"Minimum Delivery Duration\n(Optional) (if left blank delivery deemed at 0)",null,null,null,null,null,null,null,null,null,null,null,null,null,"hours"]
[]
[]
[null,null,null,"Part 5: Charges"]
[]
[null,null,null,23,null,24,null,25,null,26,null,27,null,28,null,29,null,30]
[null,null,null,"LNG Procurement Tranche Number",null,"Service Quantity (in kWh)",null,"Maximum Customer Delivery Rate (Tendered for the purposes of OM)\n(must be greater or equal to 500,000 kWh/hour)",null,"Minimum Customer Delivery Rate (Tendered for the purposes of OM)\n(optional) (if left blank delivery deemed at 0",null,"Estimated  Required LNG Quantity kWh",null,"Tranche may only be accepted in full (YES / NO)",null,"Annual Service Fee (in pence per kWh per annum)",null,"Annual Service Fee (£)"]
[null,null,null,1,null,null,null,null,null,null,null,null,null,null,null,null,null,{"$f":"(F198*P198)/100","v":0}]
[null,null,null,2,null,null,null,null,null,null,null,null,null,null,null,null,null,{"$f":"(F199*P199)/100","v":0}]
[null,null,null,3,null,null,null,null,null,null,null,null,null,null,null,null,null,0]
[null,null,null,4,null,null,null,null,null,null,null,null,null,null,null,null,null,0]
[null,null,null,5,null,null,null,null,null,null,null,null,null,null,null,null,null,0]
[null,null,null,6,null,null,null,null,null,null,null,null,null,null,null,null,null,0]
[null,null,null,7,null,null,null,null,null,null,null,null,null,null,null,null,null,0]
[null,null,null,8,null,null,null,null,null,null,null,null,null,null,null,null,null,0]
[null,null,null,9,null,null,null,null,null,null,null,null,null,null,null,null,null,0]
[null,null,null,10,null,null,null,null,null,null,null,null,null,null,null,null,null,0]
[null,null,null,"Total",null,{"$f":"SUM(F198:G207)","v":0},null,{"$f":"SUM(H198:I207)","v":0},null,{"$f":"SUM(J198:K207)","v":0},null,{"$f":"SUM(L198:M207)","v":0},null,null,null,null,null,{"$f":"SUM(R198:S207)","v":0}]
[]
[null,null,31,"Minimum Inventory ",null,null,null,null,null,null,null,null,null,null,null,null,null,"kWh"]
[]
[null,null,32,"Maximum Facility Delivery Capacity",null,null,null,null,null,null,null,null,null,null,null,null,null,"kWh/h"]
[]
[]
[]
[]
[null,null,null,"2026/27 OM DELIVERY TENDER (LNG)"]
[]
[]
[null,null,null,"Part 5: Charges (Continued)"]
[]
[null,null,33,"Indexed Delivery Charge\n",null,null,null,"Indexed Delivery Charge 1",null,null,null,null,null,null,null,null,null,"See Guidance Document"]
[]
[]
[]
[]
[]
[null,null,34,"Overrun Delivery Rate\n",null,null,null,null,null,null,null,null,null,null,null,null,null,"p/kWh, See Guidance Document"]
[]
[]
[]
[]
[]
[null,null,35,"Additional SP Delivery Capacity Charge Rate",null,null,null,null,null,null,null,null,null,null,null,null,null,"p/kWh, See Guidance Document"]
[]
[null,null,36,"Additional Nomination Restrictions "]

{"sheet":"DC2B","index":3,"n_rows":13,"n_cols":43,"rows_kept":13,"cut":false,"hidden":true,"merged":[[0,2,1,9]]}
[null,null,"Data Collection Tab for Contracts Team"]
[]
["Tender Pack","Tender Ref","Tranche Ref","Main Ref",{"$f":"#REF!","v":{"$error":"#REF!"}},{"$f":"#REF!","v":{"$error":"#REF!"}},{"$f":"#REF!","v":{"$error":"#REF!"}},{"$f":"#REF!","v":{"$error":"#REF!"}},{"$f":"#REF!","v":{"$error":"#REF!"}},{"$f":"#REF!","v":{"$error":"#REF!"}},{"$f":"#REF!","v":{"$error":"#REF!"}},{"$f":"#REF!","v":{"$error":"#REF!"}},{"$f":"#REF!","v":{"$error":"#REF!"}},{"$f":"#REF!","v":{"$error":"#REF!"}},"Winter Only?",{"$f":"#REF!","v":{"$error":"#REF!"}},{"$f":"#REF!","v":{"$error":"#REF!"}},{"$f":"#REF!","v":{"$error":"#REF!"}},{"$f":"#REF!","v":{"$error":"#REF!"}},{"$f":"#REF!","v":{"$error":"#REF!"}},{"$f":"#REF!","v":{"$error":"#REF!"}},null,{"$f":"#REF!","v":{"$error":"#REF!"}},{"$f":"#REF!","v":{"$error":"#REF!"}},{"$f":"#REF!","v":{"$error":"#REF!"}},{"$f":"#REF!","v":{"$error":"#REF!"}},{"$f":"#REF!","v":{"$error":"#REF!"}},{"$f":"#REF!","v":{"$error":"#REF!"}},null,{"$f":"#REF!","v":{"$error":"#REF!"}},{"$f":"#REF!","v":{"$error":"#REF!"}},{"$f":"#REF!","v":{"$error":"#REF!"}},"Tranche may only be accepted in full (YES / NO)",{"$f":"#REF!","v":{"$error":"#REF!"}},null,{"$f":"#REF!","v":{"$error":"#REF!"}},{"$f":"#REF!","v":{"$error":"#REF!"}},{"$f":"#REF!","v":{"$error":"#REF!"}},{"$f":"#REF!","v":{"$error":"#REF!"}},{"$f":"#REF!","v":{"$error":"#REF!"}},{"$f":"#REF!","v":{"$error":"#REF!"}},null,{"$f":"#REF!","v":{"$error":"#REF!"}}]
[null,null,null,{"$f":"A4&\".\"&B4&\".\"&C4","v":".."},{"$f":"#REF!","v":{"$error":"#REF!"}},{"$f":"#REF!","v":{"$error":"#REF!"}},{"$f":"#REF!","v":{"$error":"#REF!"}},{"$f":"#REF!","v":{"$error":"#REF!"}},{"$f":"#REF!","v":{"$error":"#REF!"}},{"$f":"#REF!","v":{"$error":"#REF!"}},{"$f":"#REF!","v":{"$error":"#REF!"}},{"$f":"#REF!","v":{"$error":"#REF!"}},{"$f":"#REF!","v":{"$error":"#REF!"}},{"$f":"#REF!","v":{"$error":"#REF!"}},"No",{"$f":"#REF!","v":{"$error":"#REF!"}},{"$f":"#REF!","v":{"$error":"#REF!"}},"Capacity Holder of LNG Importation with Storage",{"$f":"#REF!","v":{"$error":"#REF!"}},{"$f":"#REF!","v":{"$error":"#REF!"}},{"$f":"#REF!","v":{"$error":"#REF!"}},null,{"$f":"#REF!","v":{"$error":"#REF!"}},{"$f":"#REF!","v":{"$error":"#REF!"}},{"$f":"#REF!","v":{"$error":"#REF!"}},{"$f":"#REF!","v":{"$error":"#REF!"}},{"$f":"IF(#REF!=1,\"12\",IF(#REF!=2,\"24\",\"UNCHECKED\"))","v":{"$error":"#REF!"}},{"$f":"#REF!","v":{"$error":"#REF!"}},null,{"$f":"#REF!","v":{"$error":"#REF!"}},{"$f":"#REF!","v":{"$error":"#REF!"}},{"$f":"#REF!","v":{"$error":"#REF!"}},{"$f":"#REF!","v":{"$error":"#REF!"}},{"$f":"#REF!","v":{"$error":"#REF!"}},null,{"$f":"#REF!","v":{"$error":"#REF!"}},{"$f":"#REF!","v":{"$error":"#REF!"}},{"$f":"#REF!","v":{"$error":"#REF!"}},{"$f":"#REF!","v":{"$error":"#REF!"}},{"$f":"#REF!","v":{"$error":"#REF!"}},{"$f":"#REF!","v":{"$error":"#REF!"}},null,{"$f":"IF(#REF!=\"\",\"N\",\"Y\")","v":{"$error":"#REF!"}}]
[null,null,null,null,{"$f":"#REF!","v":{"$error":"#REF!"}},{"$f":"#REF!","v":{"$error":"#REF!"}},{"$f":"#REF!","v":{"$error":"#REF!"}},{"$f":"#REF!","v":{"$error":"#REF!"}},{"$f":"#REF!","v":{"$error":"#REF!"}},{"$f":"#REF!","v":{"$error":"#REF!"}},{"$f":"#REF!","v":{"$error":"#REF!"}},{"$f":"#REF!","v":{"$error":"#REF!"}},{"$f":"#REF!","v":{"$error":"#REF!"}},{"$f":"#REF!","v":{"$error":"#REF!"}},"No",{"$f":"#REF!","v":{"$error":"#REF!"}},{"$f":"#REF!","v":{"$error":"#REF!"}},"Capacity Holder of LNG Importation with Storage",{"$f":"#REF!","v":{"$error":"#REF!"}},{"$f":"#REF!","v":{"$error":"#REF!"}},{"$f":"#REF!","v":{"$error":"#REF!"}},null,{"$f":"#REF!","v":{"$error":"#REF!"}},{"$f":"#REF!","v":{"$error":"#REF!"}},{"$f":"#REF!","v":{"$error":"#REF!"}},{"$f":"#REF!","v":{"$error":"#REF!"}},{"$f":"IF(#REF!=1,\"12\",IF(#REF!=2,\"24\",\"UNCHECKED\"))","v":{"$error":"#REF!"}},{"$f":"#REF!","v":{"$error":"#REF!"}},null,{"$f":"#REF!","v":{"$error":"#REF!"}},{"$f":"#REF!","v":{"$error":"#REF!"}},{"$f":"#REF!","v":{"$error":"#REF!"}},{"$f":"#REF!","v":{"$error":"#REF!"}},{"$f":"#REF!","v":{"$error":"#REF!"}},null,{"$f":"#REF!","v":{"$error":"#REF!"}},{"$f":"#REF!","v":{"$error":"#REF!"}},{"$f":"#REF!","v":{"$error":"#REF!"}},{"$f":"#REF!","v":{"$error":"#REF!"}},{"$f":"#REF!","v":{"$error":"#REF!"}},{"$f":"#REF!","v":{"$error":"#REF!"}},null,{"$f":"IF(#REF!=\"\",\"N\",\"Y\")","v":{"$error":"#REF!"}}]
[null,null,null,null,{"$f":"#REF!","v":{"$error":"#REF!"}},{"$f":"#REF!","v":{"$error":"#REF!"}},{"$f":"#REF!","v":{"$error":"#REF!"}},{"$f":"#REF!","v":{"$error":"#REF!"}},{"$f":"#REF!","v":{"$error":"#REF!"}},{"$f":"#REF!","v":{"$error":"#REF!"}},{"$f":"#REF!","v":{"$error":"#REF!"}},{"$f":"#REF!","v":{"$error":"#REF!"}},{"$f":"#REF!","v":{"$error":"#REF!"}},{"$f":"#REF!","v":{"$error":"#REF!"}},"No",{"$f":"#REF!","v":{"$error":"#REF!"}},{"$f":"#REF!","v":{"$error":"#REF!"}},"Capacity Holder of LNG Importation with Storage",{"$f":"#REF!","v":{"$error":"#REF!"}},{"$f":"#REF!","v":{"$error":"#REF!"}},{"$f":"#REF!","v":{"$error":"#REF!"}},null,{"$f":"#REF!","v":{"$error":"#REF!"}},{"$f":"#REF!","v":{"$error":"#REF!"}},{"$f":"#REF!","v":{"$error":"#REF!"}},{"$f":"#REF!","v":{"$error":"#REF!"}},{"$f":"IF(#REF!=1,\"12\",IF(#REF!=2,\"24\",\"UNCHECKED\"))","v":{"$error":"#REF!"}},{"$f":"#REF!","v":{"$error":"#REF!"}},null,{"$f":"#REF!","v":{"$error":"#REF!"}},{"$f":"#REF!","v":{"$error":"#REF!"}},{"$f":"#REF!","v":{"$error":"#REF!"}},{"$f":"#REF!","v":{"$error":"#REF!"}},{"$f":"#REF!","v":{"$error":"#REF!"}},null,{"$f":"#REF!","v":{"$error":"#REF!"}},{"$f":"#REF!","v":{"$error":"#REF!"}},{"$f":"#REF!","v":{"$error":"#REF!"}},{"$f":"#REF!","v":{"$error":"#REF!"}},{"$f":"#REF!","v":{"$error":"#REF!"}},{"$f":"#REF!","v":{"$error":"#REF!"}},null,{"$f":"IF(#REF!=\"\",\"N\",\"Y\")","v":{"$error":"#REF!"}}]
[null,null,null,null,{"$f":"#REF!","v":{"$error":"#REF!"}},{"$f":"#REF!","v":{"$error":"#REF!"}},{"$f":"#REF!","v":{"$error":"#REF!"}},{"$f":"#REF!","v":{"$error":"#REF!"}},{"$f":"#REF!","v":{"$error":"#REF!"}},{"$f":"#REF!","v":{"$error":"#REF!"}},{"$f":"#REF!","v":{"$error":"#REF!"}},{"$f":"#REF!","v":{"$error":"#REF!"}},{"$f":"#REF!","v":{"$error":"#REF!"}},{"$f":"#REF!","v":{"$error":"#REF!"}},"No",{"$f":"#REF!","v":{"$error":"#REF!"}},{"$f":"#REF!","v":{"$error":"#REF!"}},"Capacity Holder of LNG Importation with Storage",{"$f":"#REF!","v":{"$error":"#REF!"}},{"$f":"#REF!","v":{"$error":"#REF!"}},{"$f":"#REF!","v":{"$error":"#REF!"}},null,{"$f":"#REF!","v":{"$error":"#REF!"}},{"$f":"#REF!","v":{"$error":"#REF!"}},{"$f":"#REF!","v":{"$error":"#REF!"}},{"$f":"#REF!","v":{"$error":"#REF!"}},{"$f":"IF(#REF!=1,\"12\",IF(#REF!=2,\"24\",\"UNCHECKED\"))","v":{"$error":"#REF!"}},{"$f":"#REF!","v":{"$error":"#REF!"}},null,{"$f":"#REF!","v":{"$error":"#REF!"}},{"$f":"#REF!","v":{"$error":"#REF!"}},{"$f":"#REF!","v":{"$error":"#REF!"}},{"$f":"#REF!","v":{"$error":"#REF!"}},{"$f":"#REF!","v":{"$error":"#REF!"}},null,{"$f":"#REF!","v":{"$error":"#REF!"}},{"$f":"#REF!","v":{"$error":"#REF!"}},{"$f":"#REF!","v":{"$error":"#REF!"}},{"$f":"#REF!","v":{"$error":"#REF!"}},{"$f":"#REF!","v":{"$error":"#REF!"}},{"$f":"#REF!","v":{"$error":"#REF!"}},null,{"$f":"IF(#REF!=\"\",\"N\",\"Y\")","v":{"$error":"#REF!"}}]
[null,null,null,null,{"$f":"#REF!","v":{"$error":"#REF!"}},{"$f":"#REF!","v":{"$error":"#REF!"}},{"$f":"#REF!","v":{"$error":"#REF!"}},{"$f":"#REF!","v":{"$error":"#REF!"}},{"$f":"#REF!","v":{"$error":"#REF!"}},{"$f":"#REF!","v":{"$error":"#REF!"}},{"$f":"#REF!","v":{"$error":"#REF!"}},{"$f":"#REF!","v":{"$error":"#REF!"}},{"$f":"#REF!","v":{"$error":"#REF!"}},{"$f":"#REF!","v":{"$error":"#REF!"}},"No",{"$f":"#REF!","v":{"$error":"#REF!"}},{"$f":"#REF!","v":{"$error":"#REF!"}},"Capacity Holder of LNG Importation with Storage",{"$f":"#REF!","v":{"$error":"#REF!"}},{"$f":"#REF!","v":{"$error":"#REF!"}},{"$f":"#REF!","v":{"$error":"#REF!"}},null,{"$f":"#REF!","v":{"$error":"#REF!"}},{"$f":"#REF!","v":{"$error":"#REF!"}},{"$f":"#REF!","v":{"$error":"#REF!"}},{"$f":"#REF!","v":{"$error":"#REF!"}},{"$f":"IF(#REF!=1,\"12\",IF(#REF!=2,\"24\",\"UNCHECKED\"))","v":{"$error":"#REF!"}},{"$f":"#REF!","v":{"$error":"#REF!"}},null,{"$f":"#REF!","v":{"$error":"#REF!"}},{"$f":"#REF!","v":{"$error":"#REF!"}},{"$f":"#REF!","v":{"$error":"#REF!"}},{"$f":"#REF!","v":{"$error":"#REF!"}},{"$f":"#REF!","v":{"$error":"#REF!"}},null,{"$f":"#REF!","v":{"$error":"#REF!"}},{"$f":"#REF!","v":{"$error":"#REF!"}},{"$f":"#REF!","v":{"$error":"#REF!"}},{"$f":"#REF!","v":{"$error":"#REF!"}},{"$f":"#REF!","v":{"$error":"#REF!"}},{"$f":"#REF!","v":{"$error":"#REF!"}},null,{"$f":"IF(#REF!=\"\",\"N\",\"Y\")","v":{"$error":"#REF!"}}]
[null,null,null,null,{"$f":"#REF!","v":{"$error":"#REF!"}},{"$f":"#REF!","v":{"$error":"#REF!"}},{"$f":"#REF!","v":{"$error":"#REF!"}},{"$f":"#REF!","v":{"$error":"#REF!"}},{"$f":"#REF!","v":{"$error":"#REF!"}},{"$f":"#REF!","v":{"$error":"#REF!"}},{"$f":"#REF!","v":{"$error":"#REF!"}},{"$f":"#REF!","v":{"$error":"#REF!"}},{"$f":"#REF!","v":{"$error":"#REF!"}},{"$f":"#REF!","v":{"$error":"#REF!"}},"No",{"$f":"#REF!","v":{"$error":"#REF!"}},{"$f":"#REF!","v":{"$error":"#REF!"}},"Capacity Holder of LNG Importation with Storage",{"$f":"#REF!","v":{"$error":"#REF!"}},{"$f":"#REF!","v":{"$error":"#REF!"}},{"$f":"#REF!","v":{"$error":"#REF!"}},null,{"$f":"#REF!","v":{"$error":"#REF!"}},{"$f":"#REF!","v":{"$error":"#REF!"}},{"$f":"#REF!","v":{"$error":"#REF!"}},{"$f":"#REF!","v":{"$error":"#REF!"}},{"$f":"IF(#REF!=1,\"12\",IF(#REF!=2,\"24\",\"UNCHECKED\"))","v":{"$error":"#REF!"}},{"$f":"#REF!","v":{"$error":"#REF!"}},null,{"$f":"#REF!","v":{"$error":"#REF!"}},{"$f":"#REF!","v":{"$error":"#REF!"}},{"$f":"#REF!","v":{"$error":"#REF!"}},{"$f":"#REF!","v":{"$error":"#REF!"}},{"$f":"#REF!","v":{"$error":"#REF!"}},null,{"$f":"#REF!","v":{"$error":"#REF!"}},{"$f":"#REF!","v":{"$error":"#REF!"}},{"$f":"#REF!","v":{"$error":"#REF!"}},{"$f":"#REF!","v":{"$error":"#REF!"}},{"$f":"#REF!","v":{"$error":"#REF!"}},{"$f":"#REF!","v":{"$error":"#REF!"}},null,{"$f":"IF(#REF!=\"\",\"N\",\"Y\")","v":{"$error":"#REF!"}}]
[null,null,null,null,{"$f":"#REF!","v":{"$error":"#REF!"}},{"$f":"#REF!","v":{"$error":"#REF!"}},{"$f":"#REF!","v":{"$error":"#REF!"}},{"$f":"#REF!","v":{"$error":"#REF!"}},{"$f":"#REF!","v":{"$error":"#REF!"}},{"$f":"#REF!","v":{"$error":"#REF!"}},{"$f":"#REF!","v":{"$error":"#REF!"}},{"$f":"#REF!","v":{"$error":"#REF!"}},{"$f":"#REF!","v":{"$error":"#REF!"}},{"$f":"#REF!","v":{"$error":"#REF!"}},"No",{"$f":"#REF!","v":{"$error":"#REF!"}},{"$f":"#REF!","v":{"$error":"#REF!"}},"Capacity Holder of LNG Importation with Storage",{"$f":"#REF!","v":{"$error":"#REF!"}},{"$f":"#REF!","v":{"$error":"#REF!"}},{"$f":"#REF!","v":{"$error":"#REF!"}},null,{"$f":"#REF!","v":{"$error":"#REF!"}},{"$f":"#REF!","v":{"$error":"#REF!"}},{"$f":"#REF!","v":{"$error":"#REF!"}},{"$f":"#REF!","v":{"$error":"#REF!"}},{"$f":"IF(#REF!=1,\"12\",IF(#REF!=2,\"24\",\"UNCHECKED\"))","v":{"$error":"#REF!"}},{"$f":"#REF!","v":{"$error":"#REF!"}},null,{"$f":"#REF!","v":{"$error":"#REF!"}},{"$f":"#REF!","v":{"$error":"#REF!"}},{"$f":"#REF!","v":{"$error":"#REF!"}},{"$f":"#REF!","v":{"$error":"#REF!"}},{"$f":"#REF!","v":{"$error":"#REF!"}},null,{"$f":"#REF!","v":{"$error":"#REF!"}},{"$f":"#REF!","v":{"$error":"#REF!"}},{"$f":"#REF!","v":{"$error":"#REF!"}},{"$f":"#REF!","v":{"$error":"#REF!"}},{"$f":"#REF!","v":{"$error":"#REF!"}},{"$f":"#REF!","v":{"$error":"#REF!"}},null,{"$f":"IF(#REF!=\"\",\"N\",\"Y\")","v":{"$error":"#REF!"}}]
[null,null,null,null,{"$f":"#REF!","v":{"$error":"#REF!"}},{"$f":"#REF!","v":{"$error":"#REF!"}},{"$f":"#REF!","v":{"$error":"#REF!"}},{"$f":"#REF!","v":{"$error":"#REF!"}},{"$f":"#REF!","v":{"$error":"#REF!"}},{"$f":"#REF!","v":{"$error":"#REF!"}},{"$f":"#REF!","v":{"$error":"#REF!"}},{"$f":"#REF!","v":{"$error":"#REF!"}},{"$f":"#REF!","v":{"$error":"#REF!"}},{"$f":"#REF!","v":{"$error":"#REF!"}},"No",{"$f":"#REF!","v":{"$error":"#REF!"}},{"$f":"#REF!","v":{"$error":"#REF!"}},"Capacity Holder of LNG Importation with Storage",{"$f":"#REF!","v":{"$error":"#REF!"}},{"$f":"#REF!","v":{"$error":"#REF!"}},{"$f":"#REF!","v":{"$error":"#REF!"}},null,{"$f":"#REF!","v":{"$error":"#REF!"}},{"$f":"#REF!","v":{"$error":"#REF!"}},{"$f":"#REF!","v":{"$error":"#REF!"}},{"$f":"#REF!","v":{"$error":"#REF!"}},{"$f":"IF(#REF!=1,\"12\",IF(#REF!=2,\"24\",\"UNCHECKED\"))","v":{"$error":"#REF!"}},{"$f":"#REF!","v":{"$error":"#REF!"}},null,{"$f":"#REF!","v":{"$error":"#REF!"}},{"$f":"#REF!","v":{"$error":"#REF!"}},{"$f":"#REF!","v":{"$error":"#REF!"}},{"$f":"#REF!","v":{"$error":"#REF!"}},{"$f":"#REF!","v":{"$error":"#REF!"}},null,{"$f":"#REF!","v":{"$error":"#REF!"}},{"$f":"#REF!","v":{"$error":"#REF!"}},{"$f":"#REF!","v":{"$error":"#REF!"}},{"$f":"#REF!","v":{"$error":"#REF!"}},{"$f":"#REF!","v":{"$error":"#REF!"}},{"$f":"#REF!","v":{"$error":"#REF!"}},null,{"$f":"IF(#REF!=\"\",\"N\",\"Y\")","v":{"$error":"#REF!"}}]
[null,null,null,null,{"$f":"#REF!","v":{"$error":"#REF!"}},{"$f":"#REF!","v":{"$error":"#REF!"}},{"$f":"#REF!","v":{"$error":"#REF!"}},{"$f":"#REF!","v":{"$error":"#REF!"}},{"$f":"#REF!","v":{"$error":"#REF!"}},{"$f":"#REF!","v":{"$error":"#REF!"}},{"$f":"#REF!","v":{"$error":"#REF!"}},{"$f":"#REF!","v":{"$error":"#REF!"}},{"$f":"#REF!","v":{"$error":"#REF!"}},{"$f":"#REF!","v":{"$error":"#REF!"}},"No",{"$f":"#REF!","v":{"$error":"#REF!"}},{"$f":"#REF!","v":{"$error":"#REF!"}},"Capacity Holder of LNG Importation with Storage",{"$f":"#REF!","v":{"$error":"#REF!"}},{"$f":"#REF!","v":{"$error":"#REF!"}},{"$f":"#REF!","v":{"$error":"#REF!"}},null,{"$f":"#REF!","v":{"$error":"#REF!"}},{"$f":"#REF!","v":{"$error":"#REF!"}},{"$f":"#REF!","v":{"$error":"#REF!"}},{"$f":"#REF!","v":{"$error":"#REF!"}},{"$f":"IF(#REF!=1,\"12\",IF(#REF!=2,\"24\",\"UNCHECKED\"))","v":{"$error":"#REF!"}},{"$f":"#REF!","v":{"$error":"#REF!"}},null,{"$f":"#REF!","v":{"$error":"#REF!"}},{"$f":"#REF!","v":{"$error":"#REF!"}},{"$f":"#REF!","v":{"$error":"#REF!"}},{"$f":"#REF!","v":{"$error":"#REF!"}},{"$f":"#REF!","v":{"$error":"#REF!"}},null,{"$f":"#REF!","v":{"$error":"#REF!"}},{"$f":"#REF!","v":{"$error":"#REF!"}},{"$f":"#REF!","v":{"$error":"#REF!"}},{"$f":"#REF!","v":{"$error":"#REF!"}},{"$f":"#REF!","v":{"$error":"#REF!"}},{"$f":"#REF!","v":{"$error":"#REF!"}},null,{"$f":"IF(#REF!=\"\",\"N\",\"Y\")","v":{"$error":"#REF!"}}]
[null,null,null,null,{"$f":"#REF!","v":{"$error":"#REF!"}},{"$f":"#REF!","v":{"$error":"#REF!"}},{"$f":"#REF!","v":{"$error":"#REF!"}},{"$f":"#REF!","v":{"$error":"#REF!"}},{"$f":"#REF!","v":{"$error":"#REF!"}},{"$f":"#REF!","v":{"$error":"#REF!"}},{"$f":"#REF!","v":{"$error":"#REF!"}},{"$f":"#REF!","v":{"$error":"#REF!"}},{"$f":"#REF!","v":{"$error":"#REF!"}},{"$f":"#REF!","v":{"$error":"#REF!"}},"No",{"$f":"#REF!","v":{"$error":"#REF!"}},{"$f":"#REF!","v":{"$error":"#REF!"}},"Capacity Holder of LNG Importation with Storage",{"$f":"#REF!","v":{"$error":"#REF!"}},{"$f":"#REF!","v":{"$error":"#REF!"}},{"$f":"#REF!","v":{"$error":"#REF!"}},null,{"$f":"#REF!","v":{"$error":"#REF!"}},{"$f":"#REF!","v":{"$error":"#REF!"}},{"$f":"#REF!","v":{"$error":"#REF!"}},{"$f":"#REF!","v":{"$error":"#REF!"}},{"$f":"IF(#REF!=1,\"12\",IF(#REF!=2,\"24\",\"UNCHECKED\"))","v":{"$error":"#REF!"}},{"$f":"#REF!","v":{"$error":"#REF!"}},null,{"$f":"#REF!","v":{"$error":"#REF!"}},{"$f":"#REF!","v":{"$error":"#REF!"}},{"$f":"#REF!","v":{"$error":"#REF!"}},{"$f":"#REF!","v":{"$error":"#REF!"}},{"$f":"#REF!","v":{"$error":"#REF!"}},null,{"$f":"#REF!","v":{"$error":"#REF!"}},{"$f":"#REF!","v":{"$error":"#REF!"}},{"$f":"#REF!","v":{"$error":"#REF!"}},{"$f":"#REF!","v":{"$error":"#REF!"}},{"$f":"#REF!","v":{"$error":"#REF!"}},{"$f":"#REF!","v":{"$error":"#REF!"}},null,{"$f":"IF(#REF!=\"\",\"N\",\"Y\")","v":{"$error":"#REF!"}}]

{"sheet":"DC2C","index":4,"n_rows":13,"n_cols":43,"rows_kept":13,"cut":false,"hidden":true,"merged":[[0,2,1,9]]}
[null,null,"Data Collection Tab for Contracts Team"]
[]
["Tender Pack","Tender Ref","Tranche Ref","Main Ref",{"$f":"#REF!","v":{"$error":"#REF!"}},{"$f":"#REF!","v":{"$error":"#REF!"}},{"$f":"#REF!","v":{"$error":"#REF!"}},{"$f":"#REF!","v":{"$error":"#REF!"}},{"$f":"#REF!","v":{"$error":"#REF!"}},{"$f":"#REF!","v":{"$error":"#REF!"}},{"$f":"#REF!","v":{"$error":"#REF!"}},{"$f":"#REF!","v":{"$error":"#REF!"}},{"$f":"#REF!","v":{"$error":"#REF!"}},{"$f":"#REF!","v":{"$error":"#REF!"}},"Winter Only?",{"$f":"#REF!","v":{"$error":"#REF!"}},{"$f":"#REF!","v":{"$error":"#REF!"}},{"$f":"#REF!","v":{"$error":"#REF!"}},{"$f":"#REF!","v":{"$error":"#REF!"}},{"$f":"#REF!","v":{"$error":"#REF!"}},{"$f":"#REF!","v":{"$error":"#REF!"}},{"$f":"#REF!","v":{"$error":"#REF!"}},{"$f":"#REF!","v":{"$error":"#REF!"}},{"$f":"#REF!","v":{"$error":"#REF!"}},{"$f":"#REF!","v":{"$error":"#REF!"}},{"$f":"#REF!","v":{"$error":"#REF!"}},{"$f":"#REF!","v":{"$error":"#REF!"}},{"$f":"#REF!","v":{"$error":"#REF!"}},null,{"$f":"#REF!","v":{"$error":"#REF!"}},{"$f":"#REF!","v":{"$error":"#REF!"}},{"$f":"#REF!","v":{"$error":"#REF!"}},"Tranche may only be accepted in full (YES / NO)",{"$f":"#REF!","v":{"$error":"#REF!"}},null,{"$f":"#REF!","v":{"$error":"#REF!"}},{"$f":"#REF!","v":{"$error":"#REF!"}},{"$f":"#REF!","v":{"$error":"#REF!"}},{"$f":"#REF!","v":{"$error":"#REF!"}},{"$f":"#REF!","v":{"$error":"#REF!"}},{"$f":"#REF!","v":{"$error":"#REF!"}},{"$f":"#REF!","v":{"$error":"#REF!"}},{"$f":"#REF!","v":{"$error":"#REF!"}}]
[null,null,null,{"$f":"A4&\".\"&B4&\".\"&C4","v":".."},{"$f":"#REF!","v":{"$error":"#REF!"}},{"$f":"#REF!","v":{"$error":"#REF!"}},{"$f":"#REF!","v":{"$error":"#REF!"}},{"$f":"#REF!","v":{"$error":"#REF!"}},{"$f":"#REF!","v":{"$error":"#REF!"}},{"$f":"#REF!","v":{"$error":"#REF!"}},{"$f":"#REF!","v":{"$error":"#REF!"}},{"$f":"#REF!","v":{"$error":"#REF!"}},{"$f":"#REF!","v":{"$error":"#REF!"}},{"$f":"#REF!","v":{"$error":"#REF!"}},"Yes",{"$f":"#REF!","v":{"$error":"#REF!"}},{"$f":"#REF!","v":{"$error":"#REF!"}},{"$f":"IF(#REF!=1,\"Please Select\",IF(#REF!=3,\"Capacity Holder of LNG Importation with Storage\",IF(#REF!=2,\"Operator of LNG Importation with Storage\",0)))","v":{"$error":"#REF!"}},{"$f":"#REF!","v":{"$error":"#REF!"}},{"$f":"#REF!","v":{"$error":"#REF!"}},{"$f":"#REF!","v":{"$error":"#REF!"}},{"$f":"#REF!","v":{"$error":"#REF!"}},{"$f":"#REF!","v":{"$error":"#REF!"}},{"$f":"#REF!","v":{"$error":"#REF!"}},{"$f":"#REF!","v":{"$error":"#REF!"}},{"$f":"#REF!","v":{"$error":"#REF!"}},{"$f":"IF(#REF!=1,\"12\",IF(#REF!=2,\"24\",\"UNCHECKED\"))","v":{"$error":"#REF!"}},{"$f":"#REF!","v":{"$error":"#REF!"}},null,{"$f":"#REF!","v":{"$error":"#REF!"}},{"$f":"#REF!","v":{"$error":"#REF!"}},{"$f":"#REF!","v":{"$error":"#REF!"}},{"$f":"#REF!","v":{"$error":"#REF!"}},{"$f":"#REF!","v":{"$error":"#REF!"}},null,{"$f":"#REF!","v":{"$error":"#REF!"}},{"$f":"#REF!","v":{"$error":"#REF!"}},{"$f":"#REF!","v":{"$error":"#REF!"}},{"$f":"#REF!","v":{"$error":"#REF!"}},{"$f":"#REF!","v":{"$error":"#REF!"}},{"$f":"#REF!","v":{"$error":"#REF!"}},{"$f":"#REF!","v":{"$error":"#REF!"}},{"$f":"IF(#REF!=\"\",\"N\",\"Y\")","v":{"$error":"#REF!"}}]
[null,null,null,null,{"$f":"#REF!","v":{"$error":"#REF!"}},{"$f":"#REF!","v":{"$error":"#REF!"}},{"$f":"#REF!","v":{"$error":"#REF!"}},{"$f":"#REF!","v":{"$error":"#REF!"}},{"$f":"#REF!","v":{"$error":"#REF!"}},{"$f":"#REF!","v":{"$error":"#REF!"}},{"$f":"#REF!","v":{"$error":"#REF!"}},{"$f":"#REF!","v":{"$error":"#REF!"}},{"$f":"#REF!","v":{"$error":"#REF!"}},{"$f":"#REF!","v":{"$error":"#REF!"}},"Yes",{"$f":"#REF!","v":{"$error":"#REF!"}},{"$f":"#REF!","v":{"$error":"#REF!"}},{"$f":"IF(#REF!=1,\"Please Select\",IF(#REF!=3,\"Capacity Holder of LNG Importation with Storage\",IF(#REF!=2,\"Operator of LNG Importation with Storage\",0)))","v":{"$error":"#REF!"}},{"$f":"#REF!","v":{"$error":"#REF!"}},{"$f":"#REF!","v":{"$error":"#REF!"}},{"$f":"#REF!","v":{"$error":"#REF!"}},{"$f":"#REF!","v":{"$error":"#REF!"}},{"$f":"#REF!","v":{"$error":"#REF!"}},{"$f":"#REF!","v":{"$error":"#REF!"}},{"$f":"#REF!","v":{"$error":"#REF!"}},{"$f":"#REF!","v":{"$error":"#REF!"}},{"$f":"IF(#REF!=1,\"12\",IF(#REF!=2,\"24\",\"UNCHECKED\"))","v":{"$error":"#REF!"}},{"$f":"#REF!","v":{"$error":"#REF!"}},null,{"$f":"#REF!","v":{"$error":"#REF!"}},{"$f":"#REF!","v":{"$error":"#REF!"}},{"$f":"#REF!","v":{"$error":"#REF!"}},{"$f":"#REF!","v":{"$error":"#REF!"}},{"$f":"#REF!","v":{"$error":"#REF!"}},null,{"$f":"#REF!","v":{"$error":"#REF!"}},{"$f":"#REF!","v":{"$error":"#REF!"}},{"$f":"#REF!","v":{"$error":"#REF!"}},{"$f":"#REF!","v":{"$error":"#REF!"}},{"$f":"#REF!","v":{"$error":"#REF!"}},{"$f":"#REF!","v":{"$error":"#REF!"}},{"$f":"#REF!","v":{"$error":"#REF!"}},{"$f":"IF(#REF!=\"\",\"N\",\"Y\")","v":{"$error":"#REF!"}}]
[null,null,null,null,{"$f":"#REF!","v":{"$error":"#REF!"}},{"$f":"#REF!","v":{"$error":"#REF!"}},{"$f":"#REF!","v":{"$error":"#REF!"}},{"$f":"#REF!","v":{"$error":"#REF!"}},{"$f":"#REF!","v":{"$error":"#REF!"}},{"$f":"#REF!","v":{"$error":"#REF!"}},{"$f":"#REF!","v":{"$error":"#REF!"}},{"$f":"#REF!","v":{"$error":"#REF!"}},{"$f":"#REF!","v":{"$error":"#REF!"}},{"$f":"#REF!","v":{"$error":"#REF!"}},"Yes",{"$f":"#REF!","v":{"$error":"#REF!"}},{"$f":"#REF!","v":{"$error":"#REF!"}},{"$f":"IF(#REF!=1,\"Please Select\",IF(#REF!=3,\"Capacity Holder of LNG Importation with Storage\",IF(#REF!=2,\"Operator of LNG Importation with Storage\",0)))","v":{"$error":"#REF!"}},{"$f":"#REF!","v":{"$error":"#REF!"}},{"$f":"#REF!","v":{"$error":"#REF!"}},{"$f":"#REF!","v":{"$error":"#REF!"}},{"$f":"#REF!","v":{"$error":"#REF!"}},{"$f":"#REF!","v":{"$error":"#REF!"}},{"$f":"#REF!","v":{"$error":"#REF!"}},{"$f":"#REF!","v":{"$error":"#REF!"}},{"$f":"#REF!","v":{"$error":"#REF!"}},{"$f":"IF(#REF!=1,\"12\",IF(#REF!=2,\"24\",\"UNCHECKED\"))","v":{"$error":"#REF!"}},{"$f":"#REF!","v":{"$error":"#REF!"}},null,{"$f":"#REF!","v":{"$error":"#REF!"}},{"$f":"#REF!","v":{"$error":"#REF!"}},{"$f":"#REF!","v":{"$error":"#REF!"}},{"$f":"#REF!","v":{"$error":"#REF!"}},{"$f":"#REF!","v":{"$error":"#REF!"}},null,{"$f":"#REF!","v":{"$error":"#REF!"}},{"$f":"#REF!","v":{"$error":"#REF!"}},{"$f":"#REF!","v":{"$error":"#REF!"}},{"$f":"#REF!","v":{"$error":"#REF!"}},{"$f":"#REF!","v":{"$error":"#REF!"}},{"$f":"#REF!","v":{"$error":"#REF!"}},{"$f":"#REF!","v":{"$error":"#REF!"}},{"$f":"IF(#REF!=\"\",\"N\",\"Y\")","v":{"$error":"#REF!"}}]
[null,null,null,null,{"$f":"#REF!","v":{"$error":"#REF!"}},{"$f":"#REF!","v":{"$error":"#REF!"}},{"$f":"#REF!","v":{"$error":"#REF!"}},{"$f":"#REF!","v":{"$error":"#REF!"}},{"$f":"#REF!","v":{"$error":"#REF!"}},{"$f":"#REF!","v":{"$error":"#REF!"}},{"$f":"#REF!","v":{"$error":"#REF!"}},{"$f":"#REF!","v":{"$error":"#REF!"}},{"$f":"#REF!","v":{"$error":"#REF!"}},{"$f":"#REF!","v":{"$error":"#REF!"}},"Yes",{"$f":"#REF!","v":{"$error":"#REF!"}},{"$f":"#REF!","v":{"$error":"#REF!"}},{"$f":"IF(#REF!=1,\"Please Select\",IF(#REF!=3,\"Capacity Holder of LNG Importation with Storage\",IF(#REF!=2,\"Operator of LNG Importation with Storage\",0)))","v":{"$error":"#REF!"}},{"$f":"#REF!","v":{"$error":"#REF!"}},{"$f":"#REF!","v":{"$error":"#REF!"}},{"$f":"#REF!","v":{"$error":"#REF!"}},{"$f":"#REF!","v":{"$error":"#REF!"}},{"$f":"#REF!","v":{"$error":"#REF!"}},{"$f":"#REF!","v":{"$error":"#REF!"}},{"$f":"#REF!","v":{"$error":"#REF!"}},{"$f":"#REF!","v":{"$error":"#REF!"}},{"$f":"IF(#REF!=1,\"12\",IF(#REF!=2,\"24\",\"UNCHECKED\"))","v":{"$error":"#REF!"}},{"$f":"#REF!","v":{"$error":"#REF!"}},null,{"$f":"#REF!","v":{"$error":"#REF!"}},{"$f":"#REF!","v":{"$error":"#REF!"}},{"$f":"#REF!","v":{"$error":"#REF!"}},{"$f":"#REF!","v":{"$error":"#REF!"}},{"$f":"#REF!","v":{"$error":"#REF!"}},null,{"$f":"#REF!","v":{"$error":"#REF!"}},{"$f":"#REF!","v":{"$error":"#REF!"}},{"$f":"#REF!","v":{"$error":"#REF!"}},{"$f":"#REF!","v":{"$error":"#REF!"}},{"$f":"#REF!","v":{"$error":"#REF!"}},{"$f":"#REF!","v":{"$error":"#REF!"}},{"$f":"#REF!","v":{"$error":"#REF!"}},{"$f":"IF(#REF!=\"\",\"N\",\"Y\")","v":{"$error":"#REF!"}}]
[null,null,null,null,{"$f":"#REF!","v":{"$error":"#REF!"}},{"$f":"#REF!","v":{"$error":"#REF!"}},{"$f":"#REF!","v":{"$error":"#REF!"}},{"$f":"#REF!","v":{"$error":"#REF!"}},{"$f":"#REF!","v":{"$error":"#REF!"}},{"$f":"#REF!","v":{"$error":"#REF!"}},{"$f":"#REF!","v":{"$error":"#REF!"}},{"$f":"#REF!","v":{"$error":"#REF!"}},{"$f":"#REF!","v":{"$error":"#REF!"}},{"$f":"#REF!","v":{"$error":"#REF!"}},"Yes",{"$f":"#REF!","v":{"$error":"#REF!"}},{"$f":"#REF!","v":{"$error":"#REF!"}},{"$f":"IF(#REF!=1,\"Please Select\",IF(#REF!=3,\"Capacity Holder of LNG Importation with Storage\",IF(#REF!=2,\"Operator of LNG Importation with Storage\",0)))","v":{"$error":"#REF!"}},{"$f":"#REF!","v":{"$error":"#REF!"}},{"$f":"#REF!","v":{"$error":"#REF!"}},{"$f":"#REF!","v":{"$error":"#REF!"}},{"$f":"#REF!","v":{"$error":"#REF!"}},{"$f":"#REF!","v":{"$error":"#REF!"}},{"$f":"#REF!","v":{"$error":"#REF!"}},{"$f":"#REF!","v":{"$error":"#REF!"}},{"$f":"#REF!","v":{"$error":"#REF!"}},{"$f":"IF(#REF!=1,\"12\",IF(#REF!=2,\"24\",\"UNCHECKED\"))","v":{"$error":"#REF!"}},{"$f":"#REF!","v":{"$error":"#REF!"}},null,{"$f":"#REF!","v":{"$error":"#REF!"}},{"$f":"#REF!","v":{"$error":"#REF!"}},{"$f":"#REF!","v":{"$error":"#REF!"}},{"$f":"#REF!","v":{"$error":"#REF!"}},{"$f":"#REF!","v":{"$error":"#REF!"}},null,{"$f":"#REF!","v":{"$error":"#REF!"}},{"$f":"#REF!","v":{"$error":"#REF!"}},{"$f":"#REF!","v":{"$error":"#REF!"}},{"$f":"#REF!","v":{"$error":"#REF!"}},{"$f":"#REF!","v":{"$error":"#REF!"}},{"$f":"#REF!","v":{"$error":"#REF!"}},{"$f":"#REF!","v":{"$error":"#REF!"}},{"$f":"IF(#REF!=\"\",\"N\",\"Y\")","v":{"$error":"#REF!"}}]
[null,null,null,null,{"$f":"#REF!","v":{"$error":"#REF!"}},{"$f":"#REF!","v":{"$error":"#REF!"}},{"$f":"#REF!","v":{"$error":"#REF!"}},{"$f":"#REF!","v":{"$error":"#REF!"}},{"$f":"#REF!","v":{"$error":"#REF!"}},{"$f":"#REF!","v":{"$error":"#REF!"}},{"$f":"#REF!","v":{"$error":"#REF!"}},{"$f":"#REF!","v":{"$error":"#REF!"}},{"$f":"#REF!","v":{"$error":"#REF!"}},{"$f":"#REF!","v":{"$error":"#REF!"}},"Yes",{"$f":"#REF!","v":{"$error":"#REF!"}},{"$f":"#REF!","v":{"$error":"#REF!"}},{"$f":"IF(#REF!=1,\"Please Select\",IF(#REF!=3,\"Capacity Holder of LNG Importation with Storage\",IF(#REF!=2,\"Operator of LNG Importation with Storage\",0)))","v":{"$error":"#REF!"}},{"$f":"#REF!","v":{"$error":"#REF!"}},{"$f":"#REF!","v":{"$error":"#REF!"}},{"$f":"#REF!","v":{"$error":"#REF!"}},{"$f":"#REF!","v":{"$error":"#REF!"}},{"$f":"#REF!","v":{"$error":"#REF!"}},{"$f":"#REF!","v":{"$error":"#REF!"}},{"$f":"#REF!","v":{"$error":"#REF!"}},{"$f":"#REF!","v":{"$error":"#REF!"}},{"$f":"IF(#REF!=1,\"12\",IF(#REF!=2,\"24\",\"UNCHECKED\"))","v":{"$error":"#REF!"}},{"$f":"#REF!","v":{"$error":"#REF!"}},null,{"$f":"#REF!","v":{"$error":"#REF!"}},{"$f":"#REF!","v":{"$error":"#REF!"}},{"$f":"#REF!","v":{"$error":"#REF!"}},{"$f":"#REF!","v":{"$error":"#REF!"}},{"$f":"#REF!","v":{"$error":"#REF!"}},null,{"$f":"#REF!","v":{"$error":"#REF!"}},{"$f":"#REF!","v":{"$error":"#REF!"}},{"$f":"#REF!","v":{"$error":"#REF!"}},{"$f":"#REF!","v":{"$error":"#REF!"}},{"$f":"#REF!","v":{"$error":"#REF!"}},{"$f":"#REF!","v":{"$error":"#REF!"}},{"$f":"#REF!","v":{"$error":"#REF!"}},{"$f":"IF(#REF!=\"\",\"N\",\"Y\")","v":{"$error":"#REF!"}}]
[null,null,null,null,{"$f":"#REF!","v":{"$error":"#REF!"}},{"$f":"#REF!","v":{"$error":"#REF!"}},{"$f":"#REF!","v":{"$error":"#REF!"}},{"$f":"#REF!","v":{"$error":"#REF!"}},{"$f":"#REF!","v":{"$error":"#REF!"}},{"$f":"#REF!","v":{"$error":"#REF!"}},{"$f":"#REF!","v":{"$error":"#REF!"}},{"$f":"#REF!","v":{"$error":"#REF!"}},{"$f":"#REF!","v":{"$error":"#REF!"}},{"$f":"#REF!","v":{"$error":"#REF!"}},"Yes",{"$f":"#REF!","v":{"$error":"#REF!"}},{"$f":"#REF!","v":{"$error":"#REF!"}},{"$f":"IF(#REF!=1,\"Please Select\",IF(#REF!=3,\"Capacity Holder of LNG Importation with Storage\",IF(#REF!=2,\"Operator of LNG Importation with Storage\",0)))","v":{"$error":"#REF!"}},{"$f":"#REF!","v":{"$error":"#REF!"}},{"$f":"#REF!","v":{"$error":"#REF!"}},{"$f":"#REF!","v":{"$error":"#REF!"}},{"$f":"#REF!","v":{"$error":"#REF!"}},{"$f":"#REF!","v":{"$error":"#REF!"}},{"$f":"#REF!","v":{"$error":"#REF!"}},{"$f":"#REF!","v":{"$error":"#REF!"}},{"$f":"#REF!","v":{"$error":"#REF!"}},{"$f":"IF(#REF!=1,\"12\",IF(#REF!=2,\"24\",\"UNCHECKED\"))","v":{"$error":"#REF!"}},{"$f":"#REF!","v":{"$error":"#REF!"}},null,{"$f":"#REF!","v":{"$error":"#REF!"}},{"$f":"#REF!","v":{"$error":"#REF!"}},{"$f":"#REF!","v":{"$error":"#REF!"}},{"$f":"#REF!","v":{"$error":"#REF!"}},{"$f":"#REF!","v":{"$error":"#REF!"}},null,{"$f":"#REF!","v":{"$error":"#REF!"}},{"$f":"#REF!","v":{"$error":"#REF!"}},{"$f":"#REF!","v":{"$error":"#REF!"}},{"$f":"#REF!","v":{"$error":"#REF!"}},{"$f":"#REF!","v":{"$error":"#REF!"}},{"$f":"#REF!","v":{"$error":"#REF!"}},{"$f":"#REF!","v":{"$error":"#REF!"}},{"$f":"IF(#REF!=\"\",\"N\",\"Y\")","v":{"$error":"#REF!"}}]
[null,null,null,null,{"$f":"#REF!","v":{"$error":"#REF!"}},{"$f":"#REF!","v":{"$error":"#REF!"}},{"$f":"#REF!","v":{"$error":"#REF!"}},{"$f":"#REF!","v":{"$error":"#REF!"}},{"$f":"#REF!","v":{"$error":"#REF!"}},{"$f":"#REF!","v":{"$error":"#REF!"}},{"$f":"#REF!","v":{"$error":"#REF!"}},{"$f":"#REF!","v":{"$error":"#REF!"}},{"$f":"#REF!","v":{"$error":"#REF!"}},{"$f":"#REF!","v":{"$error":"#REF!"}},"Yes",{"$f":"#REF!","v":{"$error":"#REF!"}},{"$f":"#REF!","v":{"$error":"#REF!"}},{"$f":"IF(#REF!=1,\"Please Select\",IF(#REF!=3,\"Capacity Holder of LNG Importation with Storage\",IF(#REF!=2,\"Operator of LNG Importation with Storage\",0)))","v":{"$error":"#REF!"}},{"$f":"#REF!","v":{"$error":"#REF!"}},{"$f":"#REF!","v":{"$error":"#REF!"}},{"$f":"#REF!","v":{"$error":"#REF!"}},{"$f":"#REF!","v":{"$error":"#REF!"}},{"$f":"#REF!","v":{"$error":"#REF!"}},{"$f":"#REF!","v":{"$error":"#REF!"}},{"$f":"#REF!","v":{"$error":"#REF!"}},{"$f":"#REF!","v":{"$error":"#REF!"}},{"$f":"IF(#REF!=1,\"12\",IF(#REF!=2,\"24\",\"UNCHECKED\"))","v":{"$error":"#REF!"}},{"$f":"#REF!","v":{"$error":"#REF!"}},null,{"$f":"#REF!","v":{"$error":"#REF!"}},{"$f":"#REF!","v":{"$error":"#REF!"}},{"$f":"#REF!","v":{"$error":"#REF!"}},{"$f":"#REF!","v":{"$error":"#REF!"}},{"$f":"#REF!","v":{"$error":"#REF!"}},null,{"$f":"#REF!","v":{"$error":"#REF!"}},{"$f":"#REF!","v":{"$error":"#REF!"}},{"$f":"#REF!","v":{"$error":"#REF!"}},{"$f":"#REF!","v":{"$error":"#REF!"}},{"$f":"#REF!","v":{"$error":"#REF!"}},{"$f":"#REF!","v":{"$error":"#REF!"}},{"$f":"#REF!","v":{"$error":"#REF!"}},{"$f":"IF(#REF!=\"\",\"N\",\"Y\")","v":{"$error":"#REF!"}}]
[null,null,null,null,{"$f":"#REF!","v":{"$error":"#REF!"}},{"$f":"#REF!","v":{"$error":"#REF!"}},{"$f":"#REF!","v":{"$error":"#REF!"}},{"$f":"#REF!","v":{"$error":"#REF!"}},{"$f":"#REF!","v":{"$error":"#REF!"}},{"$f":"#REF!","v":{"$error":"#REF!"}},{"$f":"#REF!","v":{"$error":"#REF!"}},{"$f":"#REF!","v":{"$error":"#REF!"}},{"$f":"#REF!","v":{"$error":"#REF!"}},{"$f":"#REF!","v":{"$error":"#REF!"}},"Yes",{"$f":"#REF!","v":{"$error":"#REF!"}},{"$f":"#REF!","v":{"$error":"#REF!"}},{"$f":"IF(#REF!=1,\"Please Select\",IF(#REF!=3,\"Capacity Holder of LNG Importation with Storage\",IF(#REF!=2,\"Operator of LNG Importation with Storage\",0)))","v":{"$error":"#REF!"}},{"$f":"#REF!","v":{"$error":"#REF!"}},{"$f":"#REF!","v":{"$error":"#REF!"}},{"$f":"#REF!","v":{"$error":"#REF!"}},{"$f":"#REF!","v":{"$error":"#REF!"}},{"$f":"#REF!","v":{"$error":"#REF!"}},{"$f":"#REF!","v":{"$error":"#REF!"}},{"$f":"#REF!","v":{"$error":"#REF!"}},{"$f":"#REF!","v":{"$error":"#REF!"}},{"$f":"IF(#REF!=1,\"12\",IF(#REF!=2,\"24\",\"UNCHECKED\"))","v":{"$error":"#REF!"}},{"$f":"#REF!","v":{"$error":"#REF!"}},null,{"$f":"#REF!","v":{"$error":"#REF!"}},{"$f":"#REF!","v":{"$error":"#REF!"}},{"$f":"#REF!","v":{"$error":"#REF!"}},{"$f":"#REF!","v":{"$error":"#REF!"}},{"$f":"#REF!","v":{"$error":"#REF!"}},null,{"$f":"#REF!","v":{"$error":"#REF!"}},{"$f":"#REF!","v":{"$error":"#REF!"}},{"$f":"#REF!","v":{"$error":"#REF!"}},{"$f":"#REF!","v":{"$error":"#REF!"}},{"$f":"#REF!","v":{"$error":"#REF!"}},{"$f":"#REF!","v":{"$error":"#REF!"}},{"$f":"#REF!","v":{"$error":"#REF!"}},{"$f":"IF(#REF!=\"\",\"N\",\"Y\")","v":{"$error":"#REF!"}}]
[null,null,null,null,{"$f":"#REF!","v":{"$error":"#REF!"}},{"$f":"#REF!","v":{"$error":"#REF!"}},{"$f":"#REF!","v":{"$error":"#REF!"}},{"$f":"#REF!","v":{"$error":"#REF!"}},{"$f":"#REF!","v":{"$error":"#REF!"}},{"$f":"#REF!","v":{"$error":"#REF!"}},{"$f":"#REF!","v":{"$error":"#REF!"}},{"$f":"#REF!","v":{"$error":"#REF!"}},{"$f":"#REF!","v":{"$error":"#REF!"}},{"$f":"#REF!","v":{"$error":"#REF!"}},"Yes",{"$f":"#REF!","v":{"$error":"#REF!"}},{"$f":"#REF!","v":{"$error":"#REF!"}},{"$f":"IF(#REF!=1,\"Please Select\",IF(#REF!=3,\"Capacity Holder of LNG Importation with Storage\",IF(#REF!=2,\"Operator of LNG Importation with Storage\",0)))","v":{"$error":"#REF!"}},{"$f":"#REF!","v":{"$error":"#REF!"}},{"$f":"#REF!","v":{"$error":"#REF!"}},{"$f":"#REF!","v":{"$error":"#REF!"}},{"$f":"#REF!","v":{"$error":"#REF!"}},{"$f":"#REF!","v":{"$error":"#REF!"}},{"$f":"#REF!","v":{"$error":"#REF!"}},{"$f":"#REF!","v":{"$error":"#REF!"}},{"$f":"#REF!","v":{"$error":"#REF!"}},{"$f":"IF(#REF!=1,\"12\",IF(#REF!=2,\"24\",\"UNCHECKED\"))","v":{"$error":"#REF!"}},{"$f":"#REF!","v":{"$error":"#REF!"}},null,{"$f":"#REF!","v":{"$error":"#REF!"}},{"$f":"#REF!","v":{"$error":"#REF!"}},{"$f":"#REF!","v":{"$error":"#REF!"}},{"$f":"#REF!","v":{"$error":"#REF!"}},{"$f":"#REF!","v":{"$error":"#REF!"}},null,{"$f":"#REF!","v":{"$error":"#REF!"}},{"$f":"#REF!","v":{"$error":"#REF!"}},{"$f":"#REF!","v":{"$error":"#REF!"}},{"$f":"#REF!","v":{"$error":"#REF!"}},{"$f":"#REF!","v":{"$error":"#REF!"}},{"$f":"#REF!","v":{"$error":"#REF!"}},{"$f":"#REF!","v":{"$error":"#REF!"}},{"$f":"IF(#REF!=\"\",\"N\",\"Y\")","v":{"$error":"#REF!"}}]